BEGIN:VCALENDAR
VERSION:2.0
PRODID:-//wp-events-plugin.com//7.2.3.1//EN
TZID:Europe/Paris
X-WR-TIMEZONE:Europe/Paris
BEGIN:VEVENT
UID:37@suresnes-escalade.fr
DTSTART;TZID=Europe/Paris:20160521T133000
DTEND;TZID=Europe/Paris:20160521T180000
DTSTAMP:20160414T072328Z
URL:https://suresnes-escalade.fr/sorties/challenge-des-petits-grimpeurs-20
 16/
SUMMARY:Challenge des petits grimpeurs 2016
DESCRIPTION:Les petits grimpeurs à l’honneur\n\nLe samedi 21 mai\, Sures
 nes Escalade organise son “Challenge des petits grimpeurs” sur notre m
 ur à Suresnes. Nos petits champions vont venir relever le défi d'une com
 pétition interne amicale et ludique. Le challenge est réservé aux grimp
 eurs nés entre 2003 et 2008\, c'est-à-dire en catégorie microbes\, pous
 sins et benjamins. Au programme\, des voies\, des blocs\, des surprises 
 … et un goûter :\n\n	13:30 : accueil des enfants. Parents bienvenus p
 our aider à l’assurage\n	14:00 : début du challenge\n	17:00 : remise
  des prix\, cadeaux et goûter\n\nRenseignez l'autorisation parentale\, à
  mettre dans la boîte au lettre du club ou à remettre le jour du challen
 ge. Nous vous attendons nombreux le samedi 21. Gâteaux\, tartes et boisso
 ns bienvenus. Le challenge remplace les cours de Franck Muquet.
CATEGORIES:Compétition,Vie du club
LOCATION:\, \, 
X-APPLE-STRUCTURED-LOCATION;VALUE=URI;X-ADDRESS=\, ;X-APPLE-RADIUS=100;X-TI
 TLE=:geo:0,0
END:VEVENT
BEGIN:VTIMEZONE
TZID:Europe/Paris
X-LIC-LOCATION:Europe/Paris
BEGIN:DAYLIGHT
DTSTART:20160327T030000
TZOFFSETFROM:+0100
TZOFFSETTO:+0200
TZNAME:CEST
END:DAYLIGHT
END:VTIMEZONE
END:VCALENDAR