BEGIN:VCALENDAR
VERSION:2.0
PRODID:-//wp-events-plugin.com//7.2.3.1//EN
TZID:Europe/Paris
X-WR-TIMEZONE:Europe/Paris
BEGIN:VEVENT
UID:36@suresnes-escalade.fr
DTSTART;TZID=Europe/Paris;VALUE=DATE:20160917
DTEND;TZID=Europe/Paris;VALUE=DATE:20160919
DTSTAMP:20160912T190152Z
URL:https://suresnes-escalade.fr/sorties/championnats-du-monde-descalade-2
 016-a-paris/
SUMMARY:Championnats du Monde d'Escalade 2016 à Paris
DESCRIPTION:Comme annoncé précédemment\, nous vous proposons donc de pro
 fiter de tarifs réduits pour cet évènement exceptionnel qui se déroule
 ra à l'AccorHotel Arena (Ex Palais Omnisport de Paris Bercy). Au programm
 e toutes les disciplines de l'Escalade Indoor classique sont au programm
 e\, de même que le Handisport toujours très impressionnant.\nProgramm
 e prévisionnel de l'organisation :\n* Samedi 17 Septembre\nBloc Hommes : 
 Demi-Finale\nDifficulté Hommes : Demi-Finale\nBloc Hommes : Finale\nDiffi
 culté Handisport : Finale\nVitesse Hommes : Finale\nDifficulté Femmes : 
 Finale\n\n* Dimanche 18 Septembre\nBloc Femmes : Finale\nDifficulté Handi
 sport : Finale\nVitesse Femmes : Finale\nDifficulté Hommes : Finale\n\nPr
 ogramme complet disponible : ici\nBillets également disponibles pour les 
 qualifications les 14\, 15 et 16 Septembre : ici\n\nPlaces initialement di
 sponibles :\nSamedi 17 Septembre : 35 places OR à 33€ chacunes (Nombre 
 inférieur au Dimanche suite à un échange de bon procédé avec le clu
 b de Rueil)\nDimanche 18 Septembre : 50 places OR à 33€ chacunes.\nNB 
 : Les places OR sont censées être les mieux situées et au tarif initial
  de 60€\n\nTransports :\nVous serez libre d'y aller par vos propres moy
 ens\, mais libre à chacun de s'organiser pour y aller en "troupes" :)\n\n
 Les adhérents à Suresnes Escalade seront prioritaires jusqu’au Samedi 
 10 Septembre. A partir de cette date\, les inscriptions extérieures à Su
 resnes Escalade pourront être validées (dans la mesure des stocks dispon
 ibles). Les inscriptions se font en ligne uniquement. Pour toute question
  un mail à sortie@suresnes-escalade.fr\, ou directement à Guillaume Pasq
 uet au pied des voies et le tour est joué.\n\nNB : Votre inscription sera
  validée et les places distribuées (des sessions de distribution génér
 ales seront organisées) \, sous réserve de réception de votre règlemen
 t à Suresnes Escalade dans la boite à lettres située à l’entrée du 
 gymnase ou en main propres.
ATTACH;FMTTYPE=image/jpeg:https://suresnes-escalade.fr/wp-content/uploads/
 2016/04/cahmpionnats2016.jpg
CATEGORIES:Sortie Salle IdF,Vie du club
LOCATION:AccorHotel Arena\, 8 Boulevard de Bercy\, Paris\, 75012\, France
GEO:48.839169;2.378228799999988
X-APPLE-STRUCTURED-LOCATION;VALUE=URI;X-ADDRESS=8 Boulevard de Bercy\, Pari
 s\, 75012\, France;X-APPLE-RADIUS=100;X-TITLE=AccorHotel Arena:geo:48.8391
 69,2.378228799999988
END:VEVENT
BEGIN:VTIMEZONE
TZID:Europe/Paris
X-LIC-LOCATION:Europe/Paris
BEGIN:DAYLIGHT
DTSTART:20160327T030000
TZOFFSETFROM:+0100
TZOFFSETTO:+0200
TZNAME:CEST
END:DAYLIGHT
END:VTIMEZONE
END:VCALENDAR