BEGIN:VCALENDAR
VERSION:2.0
PRODID:-//wp-events-plugin.com//7.2.3.1//EN
TZID:Europe/Paris
X-WR-TIMEZONE:Europe/Paris
BEGIN:VEVENT
UID:52@suresnes-escalade.fr
DTSTART;TZID=Europe/Paris;VALUE=DATE:20170722
DTEND;TZID=Europe/Paris;VALUE=DATE:20170725
DTSTAMP:20170601T213552Z
URL:https://suresnes-escalade.fr/sorties/decouverte-de-lescalade-alpine-au
 -dessus-de-chamonix-74/
SUMMARY:Découverte de l'escalade alpine au dessus de Chamonix (74)
DESCRIPTION:Cet été prenons de la hauteur\, direction les Alpes et la cab
 ane d'Orny en Suisse\, au dessus de Chamonix pour y réaliser quelques gra
 ndes voies. Ce sera l'occasion pour ceux qui ne l'ont pas encore eu de s'e
 ssayer aux grandes voies et aux itinéraires de plus grande ampleur mais p
 as difficiles et dans un ambiance montagne qui vaut le détour et fait tou
 rner les têtes.\nProgramme Général :\n3 jours d'escalade en haute monta
 gne\, 1 de falaise école et 2 jours de grandes voies faciles (Aiguille de
  la Cabane\, Aiguille d'Orny dans le 4 et le 5) par exemple et sur les arr
 êtes et sommets entourant la cabane d'Orny\n\nDates :\nDépart Vendredi 2
 1 Juillet en fin d'après-midi. Retour Lundi 24 Juillet dans la soirée.\
 n\nLogement :\nEn gite le vendredi soir et au refuge d'Orny pour les 2 aut
 res jours\n\n\nRepas :\nLes repas du matin et du soir seront pris au gite 
 et au refuge. Ce sera pique nique ou restauration rapide le midi.\n\nTrans
 ports :\nCovoiturage entre les inscrits (si vous êtes véhiculés\, merci
  de le signaler à la réservation pour faciliter l'organisation) depuis S
 uresnes (Le chauffeur sera remboursé des frais\, essence\, péages)\n\n\n
 Matériel nécessaire pour l'escalade :\nVos chaussons \, votre baudrier\,
  votre longe classique\, un descendeur et un machard (Paire de gants éven
 tuellement). Fourni par le club si vous n'avez pas : casque\, corde\, dég
 aines\, mousquetons.\n\nEncadrement :\nAssuré par un guide de Haute Monta
 gne\n\n\nNiveau requis :\nEn tête dans le 5B\n\nCoût (Encadrement\, Héb
 ergement\, Alimentation\, Transport) :\n Adhérent : 390 euros par personn
 e pour les 3 jours.\nNon adhérent : 550 euros par personne pour les 3 jou
 rs.\n\nPlaces :\nUn nombre pair est souhaitable pour les cordées et un ma
 ximum de 8 places est accepté pour faciliter la gestion du groupe.\n\n\nL
 es adhérents à Suresnes Escalade seront prioritaires jusqu’au 18 Juin.
  A partir de cette date\, les inscriptions extérieures à Suresnes Escala
 de pourront être validées (dans la mesure des stocks disponibles - et so
 us réserve d'être en possession d'une licence adaptée\, FFME\, FFGT\, C
 AF\, ...). Les inscriptions se font en ligne uniquement. Pour toute quest
 ion un petit mail à sortie@suresnes-escalade.fr\, ou directement à Guill
 aume Pasquet au pied des voies et le tour est joué.\n\nDate limite d'insc
 ription : Dimanche 9 Juillet - 23h\n\nNB : Votre inscription sera validée
  dès réception de votre règlement à Suresnes Escalade dans la boite à
  lettres située à l’entrée du gymnase.
ATTACH;FMTTYPE=image/jpeg:https://suresnes-escalade.fr/wp-content/uploads/
 2017/05/1318973665_75408030BI.jpg
CATEGORIES:Sortie Site Naturel
LOCATION:Cabane d'Orny\, 1943 Orsières\, Orsières\, Suisse
GEO:45.9841494;7.0977984999999535
X-APPLE-STRUCTURED-LOCATION;VALUE=URI;X-ADDRESS=1943 Orsières\, Orsières\
 , Suisse;X-APPLE-RADIUS=100;X-TITLE=Cabane d'Orny:geo:45.9841494,7.0977984
 999999535
END:VEVENT
BEGIN:VTIMEZONE
TZID:Europe/Paris
X-LIC-LOCATION:Europe/Paris
BEGIN:DAYLIGHT
DTSTART:20170326T030000
TZOFFSETFROM:+0100
TZOFFSETTO:+0200
TZNAME:CEST
END:DAYLIGHT
END:VTIMEZONE
END:VCALENDAR