BEGIN:VCALENDAR
VERSION:2.0
PRODID:-//wp-events-plugin.com//7.2.3.1//EN
TZID:Europe/Paris
X-WR-TIMEZONE:Europe/Paris
BEGIN:VEVENT
UID:16@suresnes-escalade.fr
DTSTART;TZID=Europe/Paris:20150307T100000
DTEND;TZID=Europe/Paris:20150307T130000
DTSTAMP:20150210T101151Z
URL:https://suresnes-escalade.fr/sorties/demons-a-chaville-le-07032015/
SUMMARY:Démons à Chaville
DESCRIPTION:Chers adhérents\, la découverte d'un autre mur et d'ouverture
 s différentes vous tente ? N'hésitez plus ! Venez découvrir le mur de
  Chaviroc le samedi 07 mars 2015 de 10 à 13h.
CATEGORIES:Echange Inter-Clubs
LOCATION:Chaviroc - Stade Leo Lagrange\, 2 rue Jean Jaurès\, Chaville\, 92
 370\, France
GEO:48.7988226;2.1859643000000233
X-APPLE-STRUCTURED-LOCATION;VALUE=URI;X-ADDRESS=2 rue Jean Jaurès\, Chavil
 le\, 92370\, France;X-APPLE-RADIUS=100;X-TITLE=Chaviroc - Stade Leo Lagran
 ge:geo:48.7988226,2.1859643000000233
END:VEVENT
BEGIN:VTIMEZONE
TZID:Europe/Paris
X-LIC-LOCATION:Europe/Paris
BEGIN:STANDARD
DTSTART:20141026T020000
TZOFFSETFROM:+0200
TZOFFSETTO:+0100
TZNAME:CET
END:STANDARD
END:VTIMEZONE
END:VCALENDAR