BEGIN:VCALENDAR
VERSION:2.0
PRODID:-//wp-events-plugin.com//7.2.3.1//EN
TZID:Europe/Paris
X-WR-TIMEZONE:Europe/Paris
BEGIN:VEVENT
UID:35@suresnes-escalade.fr
DTSTART;TZID=Europe/Paris;VALUE=DATE:20160605
DTEND;TZID=Europe/Paris;VALUE=DATE:20160606
DTSTAMP:20160408T172958Z
URL:https://suresnes-escalade.fr/sorties/dimanche-pour-les-debutants-aux-a
 ndelys-27/
SUMMARY:Dimanche pour les Débutants aux Andelys (27)
DESCRIPTION:Les Débutants aussi ont droit à leur journée ! Pour ceux qui
  ont commencés l'Escalade cette année ou qui n'ont jamais eu l'occasion
  d'affronter le vrai rocher en extérieur\, nous vous réservons un Diman
 che rien que pour vous.\nLes Falaises des Andelys dans l'Eure\, surplomban
 t la Seine offrent un des sites les plus facile d'accès pour mettre à bi
 en ce projet. A 1h30 de Suresnes en voiture il est en effet assez facile d
 'y accéder.\nDates :\nDépart Dimanche 5 Juin le matin\, Retour dans la 
 soirée.\n\nRepas :\nPrévoyez de quoi grignoter\, ou carrément un pique
 -nique pour le midi\n\nTransports :\nCovoiturage entre les inscrits (si vo
 us êtes véhiculés\, merci de le signaler à la réservation pour facili
 ter l'organisation) depuis les Gymnase du Belvédère. Non-Compris dans le
  prix\, prévoyez 5€ pour vous rembourser entre vous. Lieu de rendez-vou
 s précis communiqué ultérieurement.\n\n\nMatériel nécessaire pour l'E
 scalade :\nVotre baudrier\, vos chaussons\, une longe (communément appel
 ée "vache")\, des lunettes de Soleil (Si le Soleil donne\, il se reflète
  très bien sur le Calcaire\, bronzage assuré !)\n\nFourni par le club si
  vous n'en avez pas : un système d'assurage\, un casque\n\nFourni par le 
 club : corde\, dégaines\, mousquetons.\n\n\nNiveau Requis :\nPasseport FF
 ME Orange et grimpeur débutant l'escalade cette année ou n'ayant jamais
  fait de sorties\n\nEncadrement :\nAssuré par Franck Muquet\, Brevet d'Et
 at\, au club les Mercredi (en autre pour encader les débutants) et Same
 di\n\nPlaces :\n16 Places sont disponibles.\n\nCoût :\n Adhérent : 10 eu
 ros par personne.\nNon adhérent : 20 euros par personne.\n\nLes adhéren
 ts débutants à Suresnes Escalade seront prioritaires jusqu’au 28 Mai.
  A partir de cette date\, les grimpeurs plus expérimentés de Suresnes et
  les inscriptions extérieures à Suresnes Escalade pourront être validé
 es (dans la mesure des stocks disponibles - et sous réserve d'être en po
 ssession d'une licence adaptée\, FFME\, FFGT\, CAF\, ...). Les inscripti
 ons se font en ligne uniquement. Pour toute question un petit mail à sort
 ie@suresnes-escalade.fr\, ou directement à Guillaume ou Franck Muquet au
  pied des voies et le tour est joué.\n\nNB : Votre inscription sera valid
 ée dès réception de votre règlement à Suresnes Escalade dans la boite
  à lettres située à l’entrée du gymnase.
ATTACH;FMTTYPE=image/jpeg:https://suresnes-escalade.fr/wp-content/uploads/
 2016/03/les-andelys.jpg
CATEGORIES:Sortie Site Naturel
LOCATION:Les Andelys\, 8-20 Route des Andelys\, Les Andelys\, 27700\, Franc
 e
GEO:49.2538947;1.3795642000000043
X-APPLE-STRUCTURED-LOCATION;VALUE=URI;X-ADDRESS=8-20 Route des Andelys\, Le
 s Andelys\, 27700\, France;X-APPLE-RADIUS=100;X-TITLE=Les Andelys:geo:49.2
 538947,1.3795642000000043
END:VEVENT
BEGIN:VTIMEZONE
TZID:Europe/Paris
X-LIC-LOCATION:Europe/Paris
BEGIN:DAYLIGHT
DTSTART:20160327T030000
TZOFFSETFROM:+0100
TZOFFSETTO:+0200
TZNAME:CEST
END:DAYLIGHT
END:VTIMEZONE
END:VCALENDAR