BEGIN:VCALENDAR
VERSION:2.0
PRODID:-//wp-events-plugin.com//7.2.3.1//EN
TZID:Europe/Paris
X-WR-TIMEZONE:Europe/Paris
BEGIN:VEVENT
UID:43@suresnes-escalade.fr
DTSTART;TZID=Europe/Paris:20161127T120000
DTEND;TZID=Europe/Paris:20161127T180000
DTSTAMP:20161118T140003Z
URL:https://suresnes-escalade.fr/sorties/dominicale-orange-gouter-coupe-du
 -monde/
SUMMARY:Dominicale « orange – goûter – coupe du monde »
DESCRIPTION:Chers adhérents\,\n\nNous vous invitons dimanche 27/11 après-
 midi pour une dominicale « orange – goûter – coupe du monde » :\n
 \n12 :00 / 15 :00 : dominicale orange\, réservée aux heureux détente
 urs du passeport orange\n\n15 :00 / 16 :00 : goûter\, gâteaux &amp\; 
 boissons sont les bienvenus\n\n16 :00 / 18 :00 (voire plus) : streaming
  de la dernière épreuve de coupe du monde de l’année à Kranj en Slov
 énie. Bière recommandée.\nInfos sur l’épreuve de coupe du monde : 
 http://www.worldcupkranj.com/index_en.php\n\nPour faciliter l’organisati
 on\, inscrivez-vous pour la dominicale\, le streaming\, ou les 2 (c’est 
 gratuit) !
CATEGORIES:Compétition,Ouverture dominicale,Vie du club
LOCATION:Gymnase du Belvédère\, 2 Rue des Bourets\, Suresnes\, 92150\, Fr
 ance
GEO:48.8681378;2.2271627999999737
X-APPLE-STRUCTURED-LOCATION;VALUE=URI;X-ADDRESS=2 Rue des Bourets\, Suresne
 s\, 92150\, France;X-APPLE-RADIUS=100;X-TITLE=Gymnase du Belvédère:geo:4
 8.8681378,2.2271627999999737
END:VEVENT
BEGIN:VTIMEZONE
TZID:Europe/Paris
X-LIC-LOCATION:Europe/Paris
BEGIN:STANDARD
DTSTART:20161030T020000
TZOFFSETFROM:+0200
TZOFFSETTO:+0100
TZNAME:CET
END:STANDARD
END:VTIMEZONE
END:VCALENDAR