BEGIN:VCALENDAR
VERSION:2.0
PRODID:-//wp-events-plugin.com//7.2.3.1//EN
TZID:Europe/Paris
X-WR-TIMEZONE:Europe/Paris
BEGIN:VEVENT
UID:125@suresnes-escalade.fr
DTSTART;TZID=Europe/Paris:20220514T130000
DTEND;TZID=Europe/Paris:20220514T170000
DTSTAMP:20220429T152709Z
URL:https://suresnes-escalade.fr/sorties/echange-interclub-grimpe-a-cergy-
 le-14-mai/
SUMMARY:ECHANGE INTERCLUB : GRIMPE A CERGY le 14 MAI
DESCRIPTION:Echange Inter-club avec le club de Cergy 
CATEGORIES:Echange Inter-Clubs,Sortie Salle IdF
LOCATION:\, \, 
X-APPLE-STRUCTURED-LOCATION;VALUE=URI;X-ADDRESS=\, ;X-APPLE-RADIUS=100;X-TI
 TLE=:geo:0,0
END:VEVENT
BEGIN:VTIMEZONE
TZID:Europe/Paris
X-LIC-LOCATION:Europe/Paris
BEGIN:DAYLIGHT
DTSTART:20220327T030000
TZOFFSETFROM:+0100
TZOFFSETTO:+0200
TZNAME:CEST
END:DAYLIGHT
END:VTIMEZONE
END:VCALENDAR