BEGIN:VCALENDAR
VERSION:2.0
PRODID:-//wp-events-plugin.com//7.2.3.1//EN
TZID:Europe/Paris
X-WR-TIMEZONE:Europe/Paris
BEGIN:VEVENT
UID:124@suresnes-escalade.fr
DTSTART;TZID=Europe/Paris;VALUE=DATE:20220611
DTEND;TZID=Europe/Paris;VALUE=DATE:20220613
DTSTAMP:20220608T110809Z
URL:https://suresnes-escalade.fr/sorties/escalade-en-falaise-we-cormot-les
 -11-et-12-juin/
SUMMARY:Escalade en falaise – WE Cormot les 11 et 12 juin
DESCRIPTION:ANNULATION de la sortie Cormot (Bourgogne) le week end du 11 et
  12 juin.\n\nDépart samedi matin (vers 7 heures)\, 3 heures de route jusq
 u'à la falaise. Co-voiturage à organiser entre les participants.\n\nPour
  grimpeurs autonomes\, 5c en tête.\n\nEncadrement : Olivier Lebreton.\n\n
 Prix : 60 euros\, comprenant hébergement et repas (pour un départ le Sam
 edi matin avec une nuit sur place en gîte). Trajet non compris\, à gére
 r entre participants. Nuit et repas du vendredi\, non compris\, à la char
 ge des participants
CATEGORIES:Sortie Site Naturel
LOCATION:Falaise de Cormot\, Site de Cormot\, Cormot\, Bourgogne\, France
X-APPLE-STRUCTURED-LOCATION;VALUE=URI;X-ADDRESS=Site de Cormot\, Cormot\, B
 ourgogne\, France;X-APPLE-RADIUS=100;X-TITLE=Falaise de Cormot:geo:0,0
END:VEVENT
BEGIN:VTIMEZONE
TZID:Europe/Paris
X-LIC-LOCATION:Europe/Paris
BEGIN:DAYLIGHT
DTSTART:20220327T030000
TZOFFSETFROM:+0100
TZOFFSETTO:+0200
TZNAME:CEST
END:DAYLIGHT
END:VTIMEZONE
END:VCALENDAR