BEGIN:VCALENDAR
VERSION:2.0
PRODID:-//wp-events-plugin.com//7.2.3.1//EN
TZID:Europe/Paris
X-WR-TIMEZONE:Europe/Paris
BEGIN:VEVENT
UID:23@suresnes-escalade.fr
DTSTART;TZID=Europe/Paris;VALUE=DATE:20150606
DTEND;TZID=Europe/Paris;VALUE=DATE:20150607
DTSTAMP:20150528T191358Z
URL:https://suresnes-escalade.fr/sorties/fete-du-club/
SUMMARY:Fête du club
DESCRIPTION:Le samedi 6 juin sera une journée 'grimpe' ! Suresnois et non-
 suresnois\, participez à notre journée 'portes ouvertes' et venez vous e
 ssayer à l'escalade dès 9h30 ! Adhérents de Suresnes Escalade\, venez a
 ccueillir de potentiels nouveaux grimpeurs ! Les portes ouvertes seront su
 ivies de la fête du club\, au programme à partir de 13h : grimpe\, anima
 tions\, apéro et BBQ !\n\nMerci de vous inscrire ci-dessous afin d'organi
 ser au mieux les festivités !\n\nNB : pour l'organisation de l'apéro et 
 du BBQ c'est 'à la bonne franquette'\, chacun ramène de quoi boire et de
  quoi manger et on partage !
CATEGORIES:Vie du club
LOCATION:\, \, 
X-APPLE-STRUCTURED-LOCATION;VALUE=URI;X-ADDRESS=\, ;X-APPLE-RADIUS=100;X-TI
 TLE=:geo:0,0
END:VEVENT
BEGIN:VTIMEZONE
TZID:Europe/Paris
X-LIC-LOCATION:Europe/Paris
BEGIN:DAYLIGHT
DTSTART:20150329T030000
TZOFFSETFROM:+0100
TZOFFSETTO:+0200
TZNAME:CEST
END:DAYLIGHT
END:VTIMEZONE
END:VCALENDAR