BEGIN:VCALENDAR
VERSION:2.0
PRODID:-//wp-events-plugin.com//7.2.3.1//EN
TZID:Europe/Paris
X-WR-TIMEZONE:Europe/Paris
BEGIN:VEVENT
UID:120@suresnes-escalade.fr
DTSTART;TZID=Europe/Paris:20220409T163000
DTEND;TZID=Europe/Paris:20220409T233000
DTSTAMP:20220324T184105Z
URL:https://suresnes-escalade.fr/sorties/grimpe-et-repas-du-club/
SUMMARY:GRIMPE et REPAS du club
DESCRIPTION:Amis grimpeurs\, le temps est enfin venu de nous retrouver pour
  une soirée conviviale et festive.\n\nCertains prétendent qu'il fait tro
 p chaud pour partager une raclette\, et d'autres affirment qu'il n'y a pas
  de saison !!\n\nAlors\, pour ou contre la raclette\, nous vous attendons 
 nombreux Samedi 9 avril à partir de 19h30 pour commencer les hostilités!
 !\n\nSoirée ouverte aux adhérents du club et à leurs amis et famille\, 
 participation 10 euros par personne.\n\nAu programme\, grimpe pour les adh
 érents du club et animations au pied du mur de 17h00 à 19h00\, puis inst
 allation de la salle pour notre soirée\n\nLe club fournit les boissons\, 
 l'apéritif\, les couverts et le repas. Nous comptons sur vous pour nous c
 oncocter vos meilleurs desserts !\n\nDate limite d'inscription : mardi 5 a
 vril. \n\nNB : Votre inscription sera validée dès réception de votre r
 èglement à Suresnes Escalade (sur Helloasso).
CATEGORIES:Vie du club
LOCATION:Centre Sportif du Belvédère\, 65 bis\, rue Gambetta\, Suresnes\,
  Hauts de Seine\, 92150\, Il de France\, France
GEO:48.8765067;2.2278367000000117
X-APPLE-STRUCTURED-LOCATION;VALUE=URI;X-ADDRESS=65 bis\, rue Gambetta\, Sur
 esnes\, Hauts de Seine\, 92150\, Il de France\, France;X-APPLE-RADIUS=100;
 X-TITLE=Centre Sportif du Belvédère:geo:48.8765067,2.2278367000000117
END:VEVENT
BEGIN:VTIMEZONE
TZID:Europe/Paris
X-LIC-LOCATION:Europe/Paris
BEGIN:DAYLIGHT
DTSTART:20220327T030000
TZOFFSETFROM:+0100
TZOFFSETTO:+0200
TZNAME:CEST
END:DAYLIGHT
END:VTIMEZONE
END:VCALENDAR