BEGIN:VCALENDAR
VERSION:2.0
PRODID:-//wp-events-plugin.com//7.2.3.1//EN
TZID:Europe/Paris
X-WR-TIMEZONE:Europe/Paris
BEGIN:VEVENT
UID:47@suresnes-escalade.fr
DTSTART;TZID=Europe/Paris:20170602T160000
DTEND;TZID=Europe/Paris:20170606T160000
DTSTAMP:20170405T203649Z
URL:https://suresnes-escalade.fr/sorties/grimpe-et-vol-au-gresivaudan-38/
SUMMARY:Grimpe et Vol en Grésivaudan (38)
DESCRIPTION:L'an passé certains ont déjà pu prendre les airs\, cette ann
 ée cette possibilité vous est de nouveau donnée. C'est de toute façon 
 la raison d'être de cette sortie qui se déroulera en vallée du Grésiva
 udan\, à coté d'un des temple du Parapente\, Saint Hilaire du Touvet dan
 s le massif de la Chartreuse en Isère. Les nombreuses falaises alentours 
 seront également l'occasion de nombreuses et magnifiques ascensions et pe
 rmettront de ne pas oublier l'Escalade.\nProgramme Général :\n1 journée
  de parapente et 3 jours de grimpe aux alentours sur des sites à définir
  mais il y aura le choix\n\nDates :\nDépart Vendredi 2 Juin après-midi.
  Retour Mardi 6 Juin dans la soirée.\n\nLogement :\nJérome Brueziere\, 
 grimpeur à SE  mais aussi parapentiste chevronné et à l'origine de cet
 te sortie\, nous hébergera chez lui. Prévoyez le duvet\n\n\nRepas :\nLes
  repas du matin et du soir seront pris chez Jérome. Ce sera pique nique l
 e midi. Si resto il y a\, il sera à la charge de chacun\n\nTransports :\n
 Covoiturage entre les inscrits (si vous êtes véhiculés\, merci de le si
 gnaler à la réservation pour faciliter l'organisation) depuis Suresnes (
 Le chauffeur sera remboursé des frais\, essence\, péages)\n\n\nMatériel
  nécessaire pour l'escalade :\nVos chaussons \, votre baudrier\, votre lo
 nge classique\, un descendeur et un machard (Paire de gants éventuellemen
 t). Fourni par le club si vous n'avez pas : casque\, corde\, dégaines\, m
 ousquetons.\n\nMatériel supplémentaire pour le parapente:\nDes chaussur
 es de randonnées hautes\, des lunettes de soleil\, un coupe-vent et une v
 este chaude\, des gants.\n\nEncadrement :\nParapente : Par les membres dip
 lomés du Club de Parapente de Jérome.\nEscalade : Entre les participants
  ou par un BE si une courses d’arête est organisée sur place\n\nCoût 
 (Hébergement\, Alimentation\, Transport\, Vol Biplace) :\n Adhérent : 6
 0 euros par personne pour les 4 jours.\nNon adhérent : 100 euros par per
 sonne pour les 4 jours.\n\nNon compris : Cout du BE si course d'arête org
 anisée (en fonction de l'envie du groupe)\, 5€ de licence parapente pou
 r faire de la pente école (en fonction de l'envie de chacun)\n\nPlaces :\
 nUn maximum de 8 places est accepté pour faciliter la gestion du groupe.\
 n\n\nLes adhérents à Suresnes Escalade seront prioritaires jusqu’au 30
  Avril. A partir de cette date\, les inscriptions extérieures à Suresnes
  Escalade pourront être validées (dans la mesure des stocks disponibles 
 - et sous réserve d'être en possession d'une licence adaptée\, FFME\, F
 FGT\, CAF\, ...). Les inscriptions se font en ligne uniquement. Pour tout
 e question un petit mail à sortie@suresnes-escalade.fr\, ou directement 
 à Guillaume Pasquet ou Jérôme Brueziere au pied des voies et le tour es
 t joué.\n\nDate limite d'inscription : Samedi 20 Mai - 23h\n\nNB : Votre
  inscription sera validée dès réception de votre règlement à Suresnes
  Escalade dans la boite à lettres située à l’entrée du gymnase.
ATTACH;FMTTYPE=image/jpeg:https://suresnes-escalade.fr/wp-content/uploads/
 2016/03/11270622_1060422160652469_5159409298226031123_o.jpg
CATEGORIES:Sortie Site Naturel
LOCATION:Grésivaudan\, Place de l'Église\, Theys\, 38570\, France
GEO:45.301612;5.995505299999991
X-APPLE-STRUCTURED-LOCATION;VALUE=URI;X-ADDRESS=Place de l'Église\, Theys\
 , 38570\, France;X-APPLE-RADIUS=100;X-TITLE=Grésivaudan:geo:45.301612,5.9
 95505299999991
END:VEVENT
BEGIN:VTIMEZONE
TZID:Europe/Paris
X-LIC-LOCATION:Europe/Paris
BEGIN:DAYLIGHT
DTSTART:20170326T030000
TZOFFSETFROM:+0100
TZOFFSETTO:+0200
TZNAME:CEST
END:DAYLIGHT
END:VTIMEZONE
END:VCALENDAR