BEGIN:VCALENDAR
VERSION:2.0
PRODID:-//wp-events-plugin.com//7.2.3.1//EN
TZID:Europe/Paris
X-WR-TIMEZONE:Europe/Paris
BEGIN:VEVENT
UID:27@suresnes-escalade.fr
DTSTART;TZID=Europe/Paris:20151019T170000
DTEND;TZID=Europe/Paris:20151022T220000
DTSTAMP:20151019T081213Z
URL:https://suresnes-escalade.fr/sorties/grimpe-pendant-les-vacances-de-la
 -toussaint/
SUMMARY:Grimpe pendant les vacances de la Toussaint
DESCRIPTION:Chers adhérents\,\n\nVous trouverez ci-dessous les séances 'o
 pen' des vacances de la Toussaint  :\n\nSéances ADULTES : Premiers arri
 vés\, premiers servis\, un maximum de 22 grimpeurs sera toléré\nS'agiss
 ant de séance de grimpe libre (pas de cours\, éventuellement quelques ex
 ercices sur sollicitation du BE présent) si vous avez un doute sur votre 
 degré d'autonomie\, attendez encore quelques semaines car une blessure es
 t vite arrivée.\n\n	Lundi 19 octobre à partir de 13 ans de 19 à 22h\n	J
 eudi 22 octobre à partir de 13 ans de 19 à 22h\n	Mardi 27 octobre à p
 artir de 13 ans de 19 à 22h\n	Jeudi 29 octobre à partir de 13 ans de 19
  à 22h\n\nSéances ENFANTS : inscription en ligne OBLIGATOIRE - max. 1
 2 places\nS'agissant de groupes constitués pour l'occasion\, le BE animer
 a la séance mais ne proposera pas de vrais cours comme durant les séance
 s habituelles.\n\n	Lundi 19 octobre pour les 7/12 ans de 17 à 19h - (2 pl
 aces restantes au 18/10)\n\n	Jeudi 22 octobre pour les 7/12 ans de 17 à 1
 9h - (9 places restantes au 18/10)\n\nNB : si vous inscrivez votre enfant 
 à l'un de ces 2 créneaux\, vous vous engagez à venir ! Une place réser
 vée\, c'est une place indisponible pour un autre enfant ! Et il n'y a que
  12 places. Merci de votre compréhension.
CATEGORIES:Vie du club
LOCATION:Centre Sportif du Belvédère\, 65 bis\, rue Gambetta\, Suresnes\,
  Hauts de Seine\, 92150\, Il de France\, France
GEO:48.8765067;2.2278367000000117
X-APPLE-STRUCTURED-LOCATION;VALUE=URI;X-ADDRESS=65 bis\, rue Gambetta\, Sur
 esnes\, Hauts de Seine\, 92150\, Il de France\, France;X-APPLE-RADIUS=100;
 X-TITLE=Centre Sportif du Belvédère:geo:48.8765067,2.2278367000000117
END:VEVENT
BEGIN:VTIMEZONE
TZID:Europe/Paris
X-LIC-LOCATION:Europe/Paris
BEGIN:DAYLIGHT
DTSTART:20150329T030000
TZOFFSETFROM:+0100
TZOFFSETTO:+0200
TZNAME:CEST
END:DAYLIGHT
END:VTIMEZONE
END:VCALENDAR