BEGIN:VCALENDAR
VERSION:2.0
PRODID:-//wp-events-plugin.com//7.2.3.1//EN
TZID:Europe/Paris
X-WR-TIMEZONE:Europe/Paris
BEGIN:VEVENT
UID:96@suresnes-escalade.fr
DTSTART;TZID=Europe/Paris:20210509T103000
DTEND;TZID=Europe/Paris:20210509T153000
DTSTAMP:20210427T151102Z
URL:https://suresnes-escalade.fr/sorties/grimpe-sur-le-mur-des-poissonnier
 s-09-05-21/
SUMMARY:Grimpe sur le mur des Poissonniers - 09/05/21
DESCRIPTION:[Breaking News] si les conditions sanitaires le permettent la s
 éance du 9 mai ouverte aux débutants et aux jeunes à partir de 11 ans a
 ura  lieu à Fontainebleau [/Breaking News]\n\nSURESNES ESCALADE vous pro
 pose de grimper dimanche 9 mai sur le mur des poissonniers (métro Porte 
 de la Chapelle ligne 12). Il s'agit d'un mur extérieur avec de nombreuses
  voies accessibles\, situé à moins de 10 km de Suresnes.\n\n\n\nPublic :
  la séance du 9 mai est ouverte en priorité aux DEBUTANTS et aux jeunes 
 à partir de 11 ans\, adhérents du club\n\nHoraires : RDV directement sur
  place vers 10h30 ou co-voiturage depuis le gymnase du Belvédère (dépar
 t 10h)\, retour dans l'après-midi.\n\nMatériel : pensez à imprimer votr
 e licence pour la présenter à l'accueil et à prendre un justificatif de
  domicile &lt\; 10 km\, (ou CNI)\, et bien sûr\, n'oubliez-pas vos chauss
 ons\, baudrier\, système d'assurage\, magnésie liquide\, masque\, gel hy
 dro-alcoolique\, et de quoi boire et manger\n\nLe club fournira cordes et 
 dégaines et si besoin baudriers et système d'assurage\n\nInscription obl
 igatoire
CATEGORIES:Sortie Salle IdF
LOCATION:Mur des poissonniers\, 2 rue jean Cocteau\, Paris\, 75018\, France
X-APPLE-STRUCTURED-LOCATION;VALUE=URI;X-ADDRESS=2 rue jean Cocteau\, Paris\
 , 75018\, France;X-APPLE-RADIUS=100;X-TITLE=Mur des poissonniers:geo:0,0
END:VEVENT
BEGIN:VTIMEZONE
TZID:Europe/Paris
X-LIC-LOCATION:Europe/Paris
BEGIN:DAYLIGHT
DTSTART:20210328T030000
TZOFFSETFROM:+0100
TZOFFSETTO:+0200
TZNAME:CEST
END:DAYLIGHT
END:VTIMEZONE
END:VCALENDAR