BEGIN:VCALENDAR
VERSION:2.0
PRODID:-//wp-events-plugin.com//7.2.3.1//EN
TZID:Europe/Paris
X-WR-TIMEZONE:Europe/Paris
BEGIN:VEVENT
UID:95@suresnes-escalade.fr
DTSTART;TZID=Europe/Paris:20210425T103000
DTEND;TZID=Europe/Paris:20210425T153000
DTSTAMP:20210424T143612Z
URL:https://suresnes-escalade.fr/sorties/grimpe-sur-le-mur-des-poissonnier
 s-25-04-21/
SUMMARY:Grimpe sur le mur des Poissonniers - 25/04/21
DESCRIPTION:[Breaking News] Nous venons de débloquer des créneaux au mur 
 des poissonniers [/Breaking News]\n\nSURESNES ESCALADE vous propose de gri
 mper dimanche 25 avril sur le mur des poissonniers (métro Porte de la Ch
 apelle ligne 12). Il s'agit d'un mur extérieur avec de nombreuses voies a
 ccessibles\, situé à moins de 10 km de Suresnes.\n\n\n\nPublic : adhére
 nts du club autonomes (ados et adultes titulaires du passeport orange)\n\n
 Horaires : RDV directement sur place vers 10h30 ou co-voiturage depuis le 
 gymnase du Belvédère (départ 10h)\, retour dans l'après-midi.\n\nMaté
 riel : pensez à imprimer votre licence pour la présenter à l'accueil et
  à prendre un justificatif de domicile &lt\; 10 km\, (ou CNI)\, et bien s
 ûr\, n'oubliez-pas vos chaussons\, baudrier\, système d'assurage\, magn
 ésie liquide\, masque\, gel hydro-alcoolique\, et de quoi boire et manger
 \n\nLe club fournira cordes et dégaines.\n\nInscription obligatoire
CATEGORIES:Sortie Salle IdF
LOCATION:Mur des poissonniers\, 2 rue jean Cocteau\, Paris\, 75018\, France
X-APPLE-STRUCTURED-LOCATION;VALUE=URI;X-ADDRESS=2 rue jean Cocteau\, Paris\
 , 75018\, France;X-APPLE-RADIUS=100;X-TITLE=Mur des poissonniers:geo:0,0
END:VEVENT
BEGIN:VTIMEZONE
TZID:Europe/Paris
X-LIC-LOCATION:Europe/Paris
BEGIN:DAYLIGHT
DTSTART:20210328T030000
TZOFFSETFROM:+0100
TZOFFSETTO:+0200
TZNAME:CEST
END:DAYLIGHT
END:VTIMEZONE
END:VCALENDAR