BEGIN:VCALENDAR
VERSION:2.0
PRODID:-//wp-events-plugin.com//7.2.3.1//EN
TZID:Europe/Paris
X-WR-TIMEZONE:Europe/Paris
BEGIN:VEVENT
UID:93@suresnes-escalade.fr
DTSTART;TZID=Europe/Paris:20210403T100000
DTEND;TZID=Europe/Paris:20210403T170000
DTSTAMP:20210328T194111Z
URL:https://suresnes-escalade.fr/sorties/grimpe-sur-le-mur-des-poissonnier
 s/
SUMMARY:Grimpe sur le mur des Poissonniers
DESCRIPTION:SURESNES ESCALADE vous propose de grimper samedi 3 avril sur l
 e mur des poissonniers (métro Porte de la Chapelle ligne 12). Il s'agit d
 'un mur extérieur avec de nombreuses voies accessibles\, situé à moins 
 de 10 km de Suresnes.\n\n\n\nPublic : adhérents du club autonomes (ados e
 t adultes titulaires du passeport orange)\n\nHoraires : RDV directement su
 r place vers 10h00 ou co-voiturage depuis le gymnase du Belvédère (dépa
 rt 9h30)\, retour dans l'après-midi.\n\nMatériel : pensez à imprimer vo
 tre licence pour la présenter à l'accueil et à prendre un justificatif 
 de domicile &lt\; 10 km\, (ou CNI)\, et bien sûr\, n'oubliez-pas vos chau
 ssons\, baudrier\, système d'assurage\, magnésie liquide\, masque\, gel 
 hydro-alcoolique\, et de quoi boire et manger\n\nLe club fournira cordes e
 t dégaines.\n\nInscription obligatoire
CATEGORIES:Echange Inter-Clubs,Sortie Salle IdF,Vie du club
LOCATION:Mur des poissonniers\, 2 rue jean Cocteau\, Paris\, 75018\, France
X-APPLE-STRUCTURED-LOCATION;VALUE=URI;X-ADDRESS=2 rue jean Cocteau\, Paris\
 , 75018\, France;X-APPLE-RADIUS=100;X-TITLE=Mur des poissonniers:geo:0,0
END:VEVENT
BEGIN:VTIMEZONE
TZID:Europe/Paris
X-LIC-LOCATION:Europe/Paris
BEGIN:DAYLIGHT
DTSTART:20210328T030000
TZOFFSETFROM:+0100
TZOFFSETTO:+0200
TZNAME:CEST
END:DAYLIGHT
END:VTIMEZONE
END:VCALENDAR