BEGIN:VCALENDAR
VERSION:2.0
PRODID:-//wp-events-plugin.com//7.2.3.1//EN
TZID:Europe/Paris
X-WR-TIMEZONE:Europe/Paris
BEGIN:VEVENT
UID:38@suresnes-escalade.fr
DTSTART;TZID=Europe/Paris;VALUE=DATE:20160625
DTEND;TZID=Europe/Paris;VALUE=DATE:20160627
DTSTAMP:20160624T083650Z
URL:https://suresnes-escalade.fr/sorties/inscription-suresnes-sur-prises-2
 016/
SUMMARY:Inscription Suresnes Sur Prises 2016
DESCRIPTION:Vous avez commencé l’escalade en loisir cette année et la c
 ompétition vous tente ? Ou bien vous êtes déjà un compétiteur confi
 rmé\, féru de challenge ? Cette 9e édition de Suresnes sur Prises est 
 faite pour vous ! Ouverte à tous à partir de 8 ans et quelque soit vot
 re niveau. C’est une compétition promotionnelle qui revêt la forme d
 ’un contest d’escalade avec 20 voies (du 5 au 7) sur 6h de grimpe non
 -stop. \n\nLes règles se rapprochent d’une compétition de difficulté
 s avec un comptage des points par zone/top : un maximum de grimpe garant
 i ! Et qui dit Suresnes sur Prises dit surprises ! En effet\, des bonus
  étonnants et une finale inattendue vous seront proposés pour pimenter l
 a compétition... Vous hésitez encore ?  Venez profiter une dernière 
 fois du mur avant les grandes vacances en passant une journée riche en é
 motions\, remplie de bonne humeur\, de challenge et de convivialité !\n\n
 En échange du coût de votre inscription (inscription prise en charge par
  le club pour ses adhérents) nous vous proposons de dévoiler vos talent
 s culinaires en apportant gâteaux\, tartes\, quiches ou autres à la buv
 ette !\n\nTout compétiteur devra se munir de sa licence fédérale ainsi 
 que de son certificat médical de non contre-indication à la pratique de 
 l’escalade en compétition. \n\nNB : Inscriptions sur notre site uniqu
 ement réservées aux licenciés Suresnes Escalade.\n\nVous êtes extérie
 ur au club de Suresnes Escalade mais vous souhaitez vous inscrire à Sures
 nes sur Prises.\n\nEt pour les enfants\, n'oubliez pas de signer l' Autor
 isation parentale 2016.\n\nOrganisation :\n\n 	 Microbes\, poussins\, be
 njamins\, minimes : samedi 25 juin\n 	 Cadets\, juniors\, seniors\, vét
 érans : Dimanche 26 juin\n\nHoraires :\n\n 	 Accueil des compétiteurs
  à partir de 8h30.\n 	 Démarrage du contest à partir de 9h\n 	 Fina
 les du dimanche à 16h\n
ATTACH;FMTTYPE=image/jpeg:https://suresnes-escalade.fr/wp-content/uploads/
 2014/06/P1250036.jpg
CATEGORIES:Compétition
LOCATION:\, \, 
X-APPLE-STRUCTURED-LOCATION;VALUE=URI;X-ADDRESS=\, ;X-APPLE-RADIUS=100;X-TI
 TLE=:geo:0,0
END:VEVENT
BEGIN:VTIMEZONE
TZID:Europe/Paris
X-LIC-LOCATION:Europe/Paris
BEGIN:DAYLIGHT
DTSTART:20160327T030000
TZOFFSETFROM:+0100
TZOFFSETTO:+0200
TZNAME:CEST
END:DAYLIGHT
END:VTIMEZONE
END:VCALENDAR