BEGIN:VCALENDAR
VERSION:2.0
PRODID:-//wp-events-plugin.com//7.2.3.1//EN
TZID:Europe/Paris
X-WR-TIMEZONE:Europe/Paris
BEGIN:VEVENT
UID:22@suresnes-escalade.fr
DTSTART;TZID=Europe/Paris;VALUE=DATE:20150627
DTEND;TZID=Europe/Paris;VALUE=DATE:20150629
DTSTAMP:20150626T073330Z
URL:https://suresnes-escalade.fr/sorties/inscription-suresnes-sur-prises/
SUMMARY:Inscription Suresnes sur Prises
DESCRIPTION:Vous avez commencé l’escalade en loisir cette année et la c
 ompétition vous tente ? Ou bien vous êtes déjà un compétiteur confi
 rmé\, féru de challenge ? Cette 8e édition de Suresnes sur Prises est 
 faite pour vous ! Ouverte à tous à partir de 8 ans et quelque soit vot
 re niveau. C’est une compétition promotionnelle qui revêt la forme d
 ’un contest d’escalade avec 20 voies (du 5 au 7) sur 6h de grimpe non
 -stop. Les règles se rapprochent d’une compétition de bloc avec un c
 omptage des points par zone/top et 10 tickets à utiliser dans les voies d
 e son choix : un maximum de grimpe garanti ! Et qui dit Suresnes sur Pr
 ises dit surprises ! En effet\, des bonus étonnants et une finale inatte
 ndue vous seront proposés pour pimenter la compétition... Vous hésitez
  encore ?  Venez profiter une dernière fois du mur avant les grandes va
 cances en passant une journée riche en émotions\, remplie de bonne humeu
 r\, de challenge et de convivialité !\n\nEn échange du coût de votre in
 scription (inscription prise en charge par le club pour ses adhérents) no
 us vous proposons de dévoiler vos talents culinaires en apportant gâte
 aux\, tartes\, quiches ou autres à la buvette !\n\nTout compétiteur devr
 a se munir de sa licence fédérale ainsi que de son certificat médical d
 e non contre-indication à la pratique de l’escalade en compétition. 
 \n\nNB : Inscriptions sur notre site uniquement réservées aux licenciés
  Suresnes Escalade.\n\nVous êtes extérieur au club de Suresnes Escalade 
 mais vous souhaitez vous inscrire à Suresnes sur Prises.\n\nEt pour les e
 nfants\, n'oubliez pas de signer l' autorisation parentale2015.\n\nOrgani
 sation :\n\n	 Microbes\, poussins\, benjamins\, minimes : samedi 27 juin
 \n	 Cadets\, juniors\, seniors\, vétérans : Dimanche 28 juin\n\nHoraire
 s :\n\n	 Accueil des compétiteurs à partir de 8h30.\n	 Démarrage du
  contest à partir de 9h\n	 Finales du dimanche à 16h\n
ATTACH;FMTTYPE=image/jpeg:https://suresnes-escalade.fr/wp-content/uploads/
 2014/06/P1250036.jpg
CATEGORIES:Compétition
LOCATION:\, \, 
X-APPLE-STRUCTURED-LOCATION;VALUE=URI;X-ADDRESS=\, ;X-APPLE-RADIUS=100;X-TI
 TLE=:geo:0,0
END:VEVENT
BEGIN:VTIMEZONE
TZID:Europe/Paris
X-LIC-LOCATION:Europe/Paris
BEGIN:DAYLIGHT
DTSTART:20150329T030000
TZOFFSETFROM:+0100
TZOFFSETTO:+0200
TZNAME:CEST
END:DAYLIGHT
END:VTIMEZONE
END:VCALENDAR