BEGIN:VCALENDAR
VERSION:2.0
PRODID:-//wp-events-plugin.com//7.2.3.1//EN
TZID:Europe/Paris
X-WR-TIMEZONE:Europe/Paris
BEGIN:VEVENT
UID:49@suresnes-escalade.fr
DTSTART;TZID=Europe/Paris;VALUE=DATE:20170611
DTEND;TZID=Europe/Paris;VALUE=DATE:20170612
DTSTAMP:20170403T111211Z
URL:https://suresnes-escalade.fr/sorties/les-andelys-pour-les-debutants-27
 /
SUMMARY:Les Andelys pour les débutants (27)
DESCRIPTION:Pour que les débutants ou que ceux qui ne sont encore jamais s
 ortis en extérieur puissent s'exprimer\, cette journée leur est dédiée
 . Ce sera l'occasion d'affronter le vrai rocher en extérieur\, dans un 
 ça cadre sympatique.\nLes Falaises des Andelys dans l'Eure\, surplombant 
 la Seine offrent un des sites les plus facile d'accès pour mettre à bien
  ce projet. A 1h30 de Suresnes en voiture il est en effet assez facile d'y
  accéder. Le rocher Calcaire et les quelques Silex qui l'étrenne en fond
  un lieu de grimpe atypique\nDates :\nDépart Dimanche 11 Juin le matin\,
  Retour dans la soirée.\n\nRepas :\nPrévoyez le pique-nique pour le mid
 i\n\nTransports :\nCovoiturage entre les inscrits (si vous êtes véhicul
 és\, merci de le signaler à la réservation pour faciliter l'organisatio
 n) depuis les Gymnase du Belvédère. Non-Compris dans le prix\, prévoyez
  5€ pour vous rembourser entre vous. Lieu de rendez-vous précis communi
 qué ultérieurement.\n\n\nMatériel nécessaire pour l'Escalade :\nVotre 
 baudrier\, vos chaussons\, une longe (communément appelée "vache")\, des
  lunettes de Soleil (Si le Soleil donne\, il se reflète très bien sur le
  Calcaire\, bronzage assuré !)\n\nFourni par le club si vous n'en avez pa
 s : un système d'assurage\, un casque\n\nFourni par le club : corde\, dé
 gaines\, mousquetons.\n\n\nNiveau Requis :\n Grimpeur débutant l'escala
 de cette année ou n'ayant jamais fait de sorties\n\nEncadrement :\nAssur
 é par Franck Muquet\, Brevet d'Etat\, au club les Mercredi (notamment po
 ur encader les débutants) et Samedi\n\nCoût :\nAdhérent SE : 10 euros 
 par personne.\nNon adhérent : 20 euros par personne.\n\nPlaces :\n16 Pla
 ces sont disponibles. Date limite d'inscription le 7 Juin à 23h\n\nLes ad
 hérents débutants à Suresnes Escalade seront prioritaires jusqu’au 28
  Mai. A partir de cette date\, les grimpeurs plus expérimentés du clu
 b et les inscriptions extérieures à Suresnes Escalade pourront être 
 validées (dans la mesure des stocks disponibles - et sous réserve d'êtr
 e en possession d'une licence adaptée\, FFME\, FFGT\, CAF\, ...). Les in
 scriptions se font en ligne uniquement. Pour toute question un petit mail 
 à sortie@suresnes-escalade.fr\, ou directement à Guillaume ou Franck Muq
 uet au pied des voies et le tour est joué.\n\nNB : Votre inscription ser
 a validée dès réception de votre règlement à Suresnes Escalade dans l
 a boite à lettres située à l’entrée du gymnase.
ATTACH;FMTTYPE=image/jpeg:https://suresnes-escalade.fr/wp-content/uploads/
 2016/03/les-andelys.jpg
CATEGORIES:Sortie Site Naturel
LOCATION:Les Andelys\, 8-20 Route des Andelys\, Les Andelys\, 27700\, Franc
 e
GEO:49.2530084;1.3803804000000355
X-APPLE-STRUCTURED-LOCATION;VALUE=URI;X-ADDRESS=8-20 Route des Andelys\, Le
 s Andelys\, 27700\, France;X-APPLE-RADIUS=100;X-TITLE=Les Andelys:geo:49.2
 530084,1.3803804000000355
END:VEVENT
BEGIN:VTIMEZONE
TZID:Europe/Paris
X-LIC-LOCATION:Europe/Paris
BEGIN:DAYLIGHT
DTSTART:20170326T030000
TZOFFSETFROM:+0100
TZOFFSETTO:+0200
TZNAME:CEST
END:DAYLIGHT
END:VTIMEZONE
END:VCALENDAR