BEGIN:VCALENDAR
VERSION:2.0
PRODID:-//wp-events-plugin.com//7.2.3.1//EN
TZID:Europe/Paris
X-WR-TIMEZONE:Europe/Paris
BEGIN:VEVENT
UID:26@suresnes-escalade.fr
DTSTART;TZID=Europe/Paris:20151003T130000
DTEND;TZID=Europe/Paris:20151003T190000
DTSTAMP:20150925T090536Z
URL:https://suresnes-escalade.fr/sorties/les-rochers-de-fontainebleau-en-f
 amille/
SUMMARY:Les rochers de Fontainebleau en famille
DESCRIPTION:La rentrée est déjà derrière nous\, mais il est encore temp
 s de sortir avant que l'hiver n'arrive. La forêt de Fontainebleau et ses
  innombrables rochers s'offrent à nous pour profiter d'une belle journée
  ! Si vous ne la connaissez pas\, ce sera l'occasion de découvrir\, et si
  vous la connaissez déjà\, de vous trouver de nouveaux objectifs ou de v
 ous prélasser sur les "plages".\nDates :\nDépart du gymnase du Belvédè
 re\, samedi 3 octobre à 13h00 ou rendez-vous sur place.\nRetour le même 
 jour dans la soirée.\n\nLieu :\nForêt de Fontainebleau - secteur précis
 é sous peu (probablement le 'Diplodocus' ou 'Rocher fin')\n\nRepas :\nPiq
 ue-nique et eau à prévoir pour tenir l'après-midi.\n\nTransport :\nCovo
 iturage entre les inscrits. (Précisez si vous êtes véhiculés lors de l
 'inscription).\n\nMatériel nécessaire pour l'escalade :\nVos chaussons\,
  un crashpad (pour amortir les chutes) si vous avez.\nFourni par le club e
 n complément : quelques crashpad.\nConseillé : colophane (pof) pour ne p
 as abimer les rochers\, ou magnésie.\n\nNiveau Requis :\nTous niveaux.\n\
 nEncadrement :\nAssuré par notre Brevet d'Etat du lundi et du jeudi soir 
 : Olivier Lebreton.\n\nPlaces :\nLa forêt est grande\, pas de limitation\
 , hormis celle induite par le covoiturage.\n\nCoût :\n5€ par grimpeur 
 à régler sur place auprès de May.\n\nSortie ouverte à tous les grimpeu
 rs ainsi qu'à leur famille. En cas de trop mauvais temps\, la sortie sera
  simplement annulée. Pour les grimpeurs être titulaire d'une licence ada
 ptée\, FFME\, FFGT\, CAF\, ...). Les inscriptions se font en ligne uniqu
 ement. Pour toute question un mail à sortie@suresnes-escalade.fr\, ou dir
 ectement à Olivier\, Guillaume ou May au pied des voies et le tour est jo
 ué.\n\nClôture des inscriptions :\nVendredi 02 octobre à 23h59.
CATEGORIES:Sortie Site Naturel
LOCATION:Fontainebleau\, Route militaire\, Fontainebleau\, 77300 \, France
GEO:48.397104;2.717777999999953
X-APPLE-STRUCTURED-LOCATION;VALUE=URI;X-ADDRESS=Route militaire\, Fontaineb
 leau\, 77300 \, France;X-APPLE-RADIUS=100;X-TITLE=Fontainebleau:geo:48.397
 104,2.717777999999953
END:VEVENT
BEGIN:VTIMEZONE
TZID:Europe/Paris
X-LIC-LOCATION:Europe/Paris
BEGIN:DAYLIGHT
DTSTART:20150329T030000
TZOFFSETFROM:+0100
TZOFFSETTO:+0200
TZNAME:CEST
END:DAYLIGHT
END:VTIMEZONE
END:VCALENDAR