BEGIN:VCALENDAR
VERSION:2.0
PRODID:-//wp-events-plugin.com//7.2.3.1//EN
TZID:Europe/Paris
X-WR-TIMEZONE:Europe/Paris
BEGIN:VEVENT
UID:73@suresnes-escalade.fr
DTSTART;TZID=Europe/Paris;VALUE=DATE:20190928
DTEND;TZID=Europe/Paris;VALUE=DATE:20190930
DTSTAMP:20190908T105501Z
URL:https://suresnes-escalade.fr/sorties/pour-bien-commencer-la-saison/
SUMMARY:Pour bien commencer la saison !
DESCRIPTION:Pour bien commencer la saison le club vous propose une sortie s
 ur le site de Cormot en Bourgogne le week end du 28 au 29 septembre 2019.\
 nDépart le vendredi soir\, covoiturage et nuits en gite (gite CAF de Vauc
 hignon).\n\nPour grimpeurs autonomes\, 5c en tête.\n\nEncadrement  : Oli
 vier Lebreton.\n\nPrix :  base de 80 euros =&gt\; !!! New !!! payer en CB
  via site helloasso ! c'est par ICI\n\n\n\n&nbsp\;\n\n&nbsp\;
ATTACH;FMTTYPE=image/jpeg:https://suresnes-escalade.fr/wp-content/uploads/
 2018/04/Cormot2.jpg
CATEGORIES:Sortie Site Naturel
LOCATION:Falaise de Cormot\, Site de Cormot\, Cormot\, Bourgogne\, France
GEO:46.9622839;4.643389999999954
X-APPLE-STRUCTURED-LOCATION;VALUE=URI;X-ADDRESS=Site de Cormot\, Cormot\, B
 ourgogne\, France;X-APPLE-RADIUS=100;X-TITLE=Falaise de Cormot:geo:46.9622
 839,4.643389999999954
END:VEVENT
BEGIN:VTIMEZONE
TZID:Europe/Paris
X-LIC-LOCATION:Europe/Paris
BEGIN:DAYLIGHT
DTSTART:20190331T030000
TZOFFSETFROM:+0100
TZOFFSETTO:+0200
TZNAME:CEST
END:DAYLIGHT
END:VTIMEZONE
END:VCALENDAR