BEGIN:VCALENDAR
VERSION:2.0
PRODID:-//wp-events-plugin.com//7.2.3.1//EN
TZID:Europe/Paris
X-WR-TIMEZONE:Europe/Paris
BEGIN:VEVENT
UID:76@suresnes-escalade.fr
DTSTART;TZID=Europe/Paris:20200326T210000
DTEND;TZID=Europe/Paris:20200330T070000
DTSTAMP:20200301T200517Z
URL:https://suresnes-escalade.fr/sorties/ski-de-randonnee-dans-les-hautes-
 alpes/
SUMMARY:Ski de randonnée dans les Hautes Alpes
DESCRIPTION:Dans le cadre des activités plus tournées vers la Montagne\, 
 le club vous propose de découvrir la randonnée à ski pendant trois jour
 s dans les montagnes au dessus de Briançon. Cette sortie s’adresse à d
 es skieurs à l’aise sur pistes (rouge / noire) avec si possible une pra
 tique du hors piste et aimant randonner en montagne. Une bonne forme physi
 que est requise pour assurer une montée de 4 à 5 heures sur une dénivel
 ée de 800 à 1000 m avant la descente à ski (avec un sac sur le dos).\n\
 nDates :\n\nDépart le Jeudi 26 Mars à 20h50 par  le train de nuit à P
 aris Austerlitz\,\nRetour le Lundi 30 Mars au matin arrivée à 7h00 par l
 e train de nuit également et au même endroit\n\nPayement par chèque à 
 l'ordre e Suresnes Escalade ou en ligne sur HelloASSO https://www.helloas
 so.com/associations/suresnes-escalade/evenements/ski-de-randonnee-mars-202
 0\n\nLieu :\n\nMassif autour de Briançon (il vous sera précisé ultérie
 urement)\n\nHébergement :\n\nDans des refuges de montagne du massif en
  demi-pension\n\nEncadrement :\n\nPar un guide de Haute-Montagne\n\nNiveau
  requis :\n\nIl s'agit d'une sortie d'initiation mais il est indispensable
  de savoir skier\, à savoir être à l'aise sur pistes rouge par tout tem
 ps\, toute pentes\, toute neiges et si possible avoir déjà quelques exp
 ériences en hors pistes.\n\nTransport :\n\nPar le train de nuit depuis la
  gare de Paris Austerlitz\, compris dans le prix\n\nMatériel spécifique
  :\n\nLa location du matériel se  fera sur place. La location comprend l
 es skis de randonnées avec peaux et bâtons\, les chaussures de ski de ra
 ndonnée (différentes des chaussures de skis alpin)et le kit DVA / pelle 
 / sonde (sauf si prêté par le guide)\nMerci de préciser\, pointure\, po
 ids et taille à la réservation pour anticiper sur les locations ou au co
 ntraire d'indiquer si vous avez votre propre matériel.\n\nMatériel gén
 éral :\n\nVêtements chauds pouvant êtres superposés et ôtés ou remi
 s rapidement (notamment pour les parties ascendantes)\, idéalement 3 couc
 hes de vêtements\, gants\, bonnets\, lunettes de Soleil\, masque de ski m
 auvais temps\, crème solaire\, un sac de 40L environ (qu'il faudra porter
  en skiant\, donc ne pas prendre trop gros)\, drap de soie pour les nuits 
 au refuge.\n\nUne liste détaillée sera remise à chaque participant avan
 t la sortie\n\nTarif et participation:\nComprenant (Transport +Hébergemen
 t  et nourriture en refuge + Encadrement +  Matériel de ski et de sécu
 rité)\n\nAdhérents adultes Suresnes Escalade :\n- 400 € tout compris :
  vous pouvez payer en ligne en suivant ce lien https://www.helloasso.com/
 associations/suresnes-escalade/evenements/ski-de-randonnee-mars-2020\n- 35
 0 € tout compris sans le matériel de ski et sécurité\n\nNon adhérent
 s adultes Suresnes Escalade :\n- 450 € tout compris\n- 400 € tout comp
 ris sans le matériel de ski et sécurité\n\n7 Places sont disponibles po
 ur cette sortie\n\nLes adhérents à Suresnes Escalade seront prioritaires
  jusqu’au 31 janvier. A partir de cette date\, les inscriptions extérie
 ures à Suresnes Escalade pourront être validées (dans la mesure des sto
 cks disponibles - et sous réserve d'être en possession d'une licence ada
 ptée\, FFME\, FFGT\, CAF\, ...). Les inscriptions se font en ligne unique
 ment. Pour toute question ou renseignement un mail à sortie@suresnes-esca
 lade.fr\, ou directement à Eric Choplin (06 79 36 84 24) : choplin.eric@h
 otmail.fr au pied des voies et le tour est joué.\n\nRéunion préparatoir
 e obligatoire pour les participants (notamment pour les informations sur l
 e programme et le matériel à emmener) le jeudi 12 mars à 20 h au Gymnas
 e.\n\nClôture des inscriptions : Dimanche 9 Février à 20h\n\nNB : Votre
  inscription sera validée dès réception de votre règlement à Suresnes
  Escalade dans la boite à lettres située à l’entrée du gymnase.\n\nR
 éservation : En m'inscrivant sur ce site\, "j'accepte que mes données 
 personnelles soient collectées et conservées dans les conditions défini
 es sur le lien Politique de confidentialité du site."
ATTACH;FMTTYPE=image/jpeg:https://suresnes-escalade.fr/wp-content/uploads/
 2018/01/ski_rando.jpg
CATEGORIES:Sortie Site Naturel
LOCATION:Briançon\, massif\, Briançon\, France
X-APPLE-STRUCTURED-LOCATION;VALUE=URI;X-ADDRESS=massif\, Briançon\, France
 ;X-APPLE-RADIUS=100;X-TITLE=Briançon:geo:0,0
END:VEVENT
BEGIN:VTIMEZONE
TZID:Europe/Paris
X-LIC-LOCATION:Europe/Paris
BEGIN:STANDARD
DTSTART:20191027T020000
TZOFFSETFROM:+0200
TZOFFSETTO:+0100
TZNAME:CET
END:STANDARD
BEGIN:DAYLIGHT
DTSTART:20200329T030000
TZOFFSETFROM:+0100
TZOFFSETTO:+0200
TZNAME:CEST
END:DAYLIGHT
END:VTIMEZONE
END:VCALENDAR