BEGIN:VCALENDAR
VERSION:2.0
PRODID:-//wp-events-plugin.com//7.2.3.1//EN
TZID:Europe/Paris
X-WR-TIMEZONE:Europe/Paris
BEGIN:VEVENT
UID:46@suresnes-escalade.fr
DTSTART;TZID=Europe/Paris;VALUE=DATE:20170323
DTEND;TZID=Europe/Paris;VALUE=DATE:20170327
DTSTAMP:20170301T121011Z
URL:https://suresnes-escalade.fr/sorties/ski-de-randonnee/
SUMMARY:Ski de Randonnée en Vanoise(73)
DESCRIPTION:Cher tous\,\n\nDans le cadre des activités plus tournées vers
  la Montagne\, la première sortie organisée sera donc à base de Ski de 
 randonnée. Le but est le même que celui annoncé précédemment\, avoir 
 une équipe de motivés par la cascade de glace\, le ski de randonnée\, l
 e terrain d’aventure et l’alpinisme de manière générale pour organi
 ser plusieurs sorties et développer les compétences de chacun dans ces d
 omaines et selon les envies\, valider ces acquis par des diplômes fédér
 aux.\n\nLe ski de randonnée (aussi appelé Ski Alpinisme à la fédérati
 on) donc pour commencer\, permet de progresser en montagne sur les pentes 
 neigeuses sans utiliser les structures de remontées mécaniques et dan
 s des pentes non damées. Il permet donc de s'aventurer hors des stations 
 et d'être ainsi au plus proche de la nature. La partie montée est effect
 uée avec des "peaux de phoques" collées temporairement sous les skis (il
  s'agit plutôt d'une sorte de moquette synthétique) pour éviter de part
 ir en arrière\, quand à la partie de descente elle se fait avec ces mêm
 es skis mais sur des zones non damées\, hors piste.\n\nDates :\n\nDépar
 t le Jeudi 23 Mars au matin\, retour le Dimanche 26 Mars au soir\n\nLieu :
 \n\nDans le massif du Parc de la Vanoise\, soit à partir de Pralognan\, o
 u de Aussois\n\nHébergement :\n\nDans un gite de montagne du massif\n\nEn
 cadrement :\n\nPar un guide de Haute-Montagne\n\nNiveau requis :\n\nIl s'a
 git d'une sortie d'initiation mais il est indispensable de savoir skier\, 
 à savoir être à l'aise sur pistes rouge par tout temps\, toute pentes\,
  toute neiges et si possible avoir déjà quelques expériences en hors pi
 stes.\n\nTransport :\n\nCovoiturage entre les participants\, non compris d
 ans le prix\n\nMatériel spécifique :\n\nLocation du matériel\, est com
 pris dans le prix. La location comprend les skis de randonnées avec peaux
  et bâtons\, les chaussures de ski de randonnée (différentes des chauss
 ures de skis alpin)\, le kit DVA+Pelle+Sonde sera prêté par le guide. Me
 rci de préciser\, pointure\, poids et taille à la réservation pour anti
 ciper sur les locations ou au contraire d'indiquer si vous avez votre prop
 re matériel.\n\nMatériel général :\n\nVêtements chauds pouvant être
 s superposés et ôtés ou remis rapidement (notamment pour les parties as
 cendantes)\, idéalement 3 couches de vêtements\, gants\, bonnets\, lunet
 tes de Soleil\, masque de ski mauvais temps\, crème solaire\, un sac de 4
 0L environ (qu'il faudra porter en skiant\, donc ne pas prendre trop gros)
 \, drap de soie pour les nuits au refuge.\n\nListe donnée à titre indica
 tif et qui sera reprécisée et détaillée avec les participants\n\n&nbsp
 \;\n\nTarif et participation:\nComprenant (Hébergement + Encadrement + Al
 imentation + Matériel)\n\nAdhérents adultes Suresnes Escalade : 330€\n
 Non adhérents adultes Suresnes Escalade : 450€\n\n8 Places sont disponi
 bles pour cette sortie\n\nLes adhérents à Suresnes Escalade seront prior
 itaires jusqu’au 6 février. A partir de cette date\, les inscriptions e
 xtérieures à Suresnes Escalade pourront être validées (dans la mesure 
 des stocks disponibles - et sous réserve d'être en possession d'une lice
 nce adaptée\, FFME\, FFGT\, CAF\, ...). Les inscriptions se font en lign
 e uniquement. Pour toute question ou renseignement un mail à sortie@sures
 nes-escalade.fr\, ou directement à Guillaume Pasquet ou Eric Choplin au 
 pied des voies et le tour est joué.\n\nClôture des inscriptions : Dimanc
 he 12 Mars à 23h\n\nNB : Votre inscription sera validée dès réception 
 de votre règlement à Suresnes Escalade dans la boite à lettres située 
 à l’entrée du gymnase.\n\n&nbsp\;\n\nPour rappel le programme prévis
 ionnel des activités Montagne prévues :\n\nMars 2017 : Ski de Randonnée
 \nDébut Juin 2017 : Course de neige/Mixte\nJuillet 2017 : Course d'arrêt
 e\nSeptembre 2017 : Terrain d'aventure\nJanvier 2018 : Cascade de Glace
ATTACH;FMTTYPE=image/jpeg:https://suresnes-escalade.fr/wp-content/uploads/
 2016/12/IMAG3902.jpg
CATEGORIES:Sortie Site Naturel
LOCATION:Pralognan La Vanoise\, Route des Fontanettes\, Pralognan\, France
GEO:45.382366;6.725855000000024
X-APPLE-STRUCTURED-LOCATION;VALUE=URI;X-ADDRESS=Route des Fontanettes\, Pra
 lognan\, France;X-APPLE-RADIUS=100;X-TITLE=Pralognan La Vanoise:geo:45.382
 366,6.725855000000024
END:VEVENT
BEGIN:VTIMEZONE
TZID:Europe/Paris
X-LIC-LOCATION:Europe/Paris
BEGIN:STANDARD
DTSTART:20161030T020000
TZOFFSETFROM:+0200
TZOFFSETTO:+0100
TZNAME:CET
END:STANDARD
END:VTIMEZONE
END:VCALENDAR