BEGIN:VCALENDAR
VERSION:2.0
PRODID:-//wp-events-plugin.com//7.2.3.1//EN
TZID:Europe/Paris
X-WR-TIMEZONE:Europe/Paris
BEGIN:VEVENT
UID:45@suresnes-escalade.fr
DTSTART;TZID=Europe/Paris:20170304T163000
DTEND;TZID=Europe/Paris:20170304T233000
DTSTAMP:20170223T190049Z
URL:https://suresnes-escalade.fr/sorties/soiree-raclette-demontage-des-voi
 es-save-the-date/
SUMMARY:Soirée Raclette & démontage des voies : Save the date !
DESCRIPTION:Après avoir dégusté de délicieuses galettes en début d’a
 nnée\, nous vous proposons de nous retrouver tous autour d’une bonne ra
 clette le samedi 4 mars à partir de 19h30 au gymnase. Nous comptons sur v
 ous pour apporter vos appareils à raclettes et pour faire briller vos tal
 ents de pâtissier et nous concocter vos meilleurs desserts !\n\nNous avon
 s également besoin de votre aide avant ce festin ! Une session de démon
 tage des voies et nettoyage des prises est prévue de 16h30 à 20h.\n\nEn 
 raison du remontage des voies le dimanche 5 mars\, l’ouverture dominical
 e orange est annulée. Merci de votre compréhension.\n\nParticipation &am
 p\; inscription: Merci de vous inscrire sur le site du club. Nous vous dem
 andons une participation de 10 euros par personne à remettre dans la boit
 e aux lettres située à l’entrée du gymnase ou le jour J.
ATTACH;FMTTYPE=image/jpeg:https://suresnes-escalade.fr/wp-content/uploads/
 2017/02/Raclette-2017-light.jpg
CATEGORIES:Vie du club
LOCATION:\, \, 
X-APPLE-STRUCTURED-LOCATION;VALUE=URI;X-ADDRESS=\, ;X-APPLE-RADIUS=100;X-TI
 TLE=:geo:0,0
END:VEVENT
BEGIN:VTIMEZONE
TZID:Europe/Paris
X-LIC-LOCATION:Europe/Paris
BEGIN:STANDARD
DTSTART:20161030T020000
TZOFFSETFROM:+0200
TZOFFSETTO:+0100
TZNAME:CET
END:STANDARD
END:VTIMEZONE
END:VCALENDAR