BEGIN:VCALENDAR
VERSION:2.0
PRODID:-//wp-events-plugin.com//7.2.3.1//EN
TZID:Europe/Paris
X-WR-TIMEZONE:Europe/Paris
BEGIN:VEVENT
UID:13@suresnes-escalade.fr
DTSTART;TZID=Europe/Paris:20150207T163000
DTEND;TZID=Europe/Paris:20150207T233000
DTSTAMP:20150203T200223Z
URL:https://suresnes-escalade.fr/sorties/soiree-raclette/
SUMMARY:Soirée raclette
DESCRIPTION:Amis grimpeurs\, le temps est venu pour nous de se réchauffer 
 en ces temps de froid autour d'une raclette. Nous vous invitons le samedi
  07 février 2015 à partir de 19h pour commencer les hostilités ainsi qu
 e vos services à raclette pour que la soirée puisse se faire. Nous comp
 tons sur vous pour faire briller vos talents de pâtissier et nous concoct
 er vos meilleurs desserts ! Pour les plus courageux\, une session de grim
 pe sera ouverte de 16h30 à 19h. Date limite d'inscription : mardi 3 fév
 rier 2015. \n\nNB : Votre inscription sera validée dès réception de vo
 tre règlement à Suresnes Escalade dans la boite à lettres située à l'
 entrée du gymnase.
CATEGORIES:Vie du club
LOCATION:Centre Sportif du Belvédère\, 65 bis\, rue Gambetta\, Suresnes\,
  Hauts de Seine\, 92150\, Il de France\, France
GEO:48.8765067;2.2278367000000117
X-APPLE-STRUCTURED-LOCATION;VALUE=URI;X-ADDRESS=65 bis\, rue Gambetta\, Sur
 esnes\, Hauts de Seine\, 92150\, Il de France\, France;X-APPLE-RADIUS=100;
 X-TITLE=Centre Sportif du Belvédère:geo:48.8765067,2.2278367000000117
END:VEVENT
BEGIN:VTIMEZONE
TZID:Europe/Paris
X-LIC-LOCATION:Europe/Paris
BEGIN:STANDARD
DTSTART:20141026T020000
TZOFFSETFROM:+0200
TZOFFSETTO:+0100
TZNAME:CET
END:STANDARD
END:VTIMEZONE
END:VCALENDAR