BEGIN:VCALENDAR
VERSION:2.0
PRODID:-//wp-events-plugin.com//7.2.3.1//EN
TZID:Europe/Paris
X-WR-TIMEZONE:Europe/Paris
BEGIN:VEVENT
UID:91@suresnes-escalade.fr
DTSTART;TZID=Europe/Paris:20210327T090000
DTEND;TZID=Europe/Paris:20210327T170000
DTSTAMP:20210322T183555Z
URL:https://suresnes-escalade.fr/sorties/sortie-a-fontainebleau-adultes-to
 us-niveaux-samedi-27-mars/
SUMMARY:Sortie à Fontainebleau Adultes tous niveaux samedi 27 mars
DESCRIPTION:Chers tous\,\n\nLa forêt de Fontainebleau est magnifique en to
 utes saisons\, le club vous propose deux nouvelles sorties "découverte" d
 e la grimpe sur les rochers de Fontainebleau samedi 27 et dimanche 28 mars
  2021.\n\n\nCes sorties sont ouvertes aux adhérents du club de tous nivea
 ux y compris ceux dont les chaussons n'ont jamais foulé le rocher bellifo
 ntain. La sortie de samedi 27/03 est réservée aux adultes. La sortie de 
 dimanche est ouverte aux adultes\, et aux jeunes de plus de 10 ans (sous r
 éserve d'un nombre suffisant d'adultes accompagnants).\n\nLes grimpeurs a
 utonomes sont également les bienvenus.\n \nLe transport sera organisé a
 vec les voitures des volontaires en fonction des inscriptions. (Nous recom
 mandons de donner 5€ au chauffeur pour le trajet A/R).\n\nSi la météo 
 est fraîche\, prévoir des vêtements chauds et bien sûr\, ses chaussons
 \, de la magnésie\, un pique-nique et de la bonne humeur.\n \nDépart 9:
 00 RDV devant le gymnase du Belvédère\nRetour 17:00 devant le gymnase.\n
 \n \nPS : si la situation sanitaire devait évoluer nous adapterons ou re
 pousserons ces sorties\n
CATEGORIES:Sortie Site Naturel
LOCATION:Fontainebleau\, Route militaire\, Fontainebleau\, 77300 \, France
GEO:48.397104;2.717777999999953
X-APPLE-STRUCTURED-LOCATION;VALUE=URI;X-ADDRESS=Route militaire\, Fontaineb
 leau\, 77300 \, France;X-APPLE-RADIUS=100;X-TITLE=Fontainebleau:geo:48.397
 104,2.717777999999953
END:VEVENT
BEGIN:VTIMEZONE
TZID:Europe/Paris
X-LIC-LOCATION:Europe/Paris
BEGIN:STANDARD
DTSTART:20201025T020000
TZOFFSETFROM:+0200
TZOFFSETTO:+0100
TZNAME:CET
END:STANDARD
END:VTIMEZONE
END:VCALENDAR