BEGIN:VCALENDAR
VERSION:2.0
PRODID:-//wp-events-plugin.com//7.2.3.1//EN
TZID:Europe/Paris
X-WR-TIMEZONE:Europe/Paris
BEGIN:VEVENT
UID:88@suresnes-escalade.fr
DTSTART;TZID=Europe/Paris:20210306T090000
DTEND;TZID=Europe/Paris:20210306T170000
DTSTAMP:20210227T192451Z
URL:https://suresnes-escalade.fr/sorties/sortie-a-fontainebleau-tous-nivea
 ux-le-6-mars/
SUMMARY:Sortie à Fontainebleau Adultes tous niveaux le 6 mars
DESCRIPTION:Chers tous\,\n\nLa belle météo se maintient pour la semaine 
 prochaine et le club organise une sortie "découverte" à Fontainebleau
  pour ses membres ce samedi 6 mars 2021.\n\n\nCette sortie se destine aux
  pratiquants adultes de tous niveaux y compris ceux dont les chaussons n'o
 nt jamais foulé le rocher bellifontain. En fonction de la participation\,
  nous formerons des groupes de 6 avec un participant plus expérimenté (e
 t qui a au moins un crashpad = tapis de réception pour amortir les chutes
 ).\n\nLes grimpeurs plus autonomes sont également les bienvenus.\n \nLe 
 transport sera organisé avec les voitures des volontaires en fonction des
  inscriptions. (Nous recommandons de donner 5€ au chauffeur pour le traj
 et A/R).\n\nLa météo sera fraîche. Prévoir des vêtements chauds\, ses
  chaussons\, de la magnésie\, un pique-nique et de la bonne humeur.\n \n
 Départ 9:00 RDV devant le gymnase du Belvédère\nRetour 17:00 devant le 
 gymnase.\n\n \nPS : si la situation sanitaire devait évoluer nous adapte
 rons ou repousserons la sortie\n
CATEGORIES:Sortie Site Naturel
LOCATION:Fontainebleau\, Route militaire\, Fontainebleau\, 77300 \, France
GEO:48.397104;2.717777999999953
X-APPLE-STRUCTURED-LOCATION;VALUE=URI;X-ADDRESS=Route militaire\, Fontaineb
 leau\, 77300 \, France;X-APPLE-RADIUS=100;X-TITLE=Fontainebleau:geo:48.397
 104,2.717777999999953
END:VEVENT
BEGIN:VTIMEZONE
TZID:Europe/Paris
X-LIC-LOCATION:Europe/Paris
BEGIN:STANDARD
DTSTART:20201025T020000
TZOFFSETFROM:+0200
TZOFFSETTO:+0100
TZNAME:CET
END:STANDARD
END:VTIMEZONE
END:VCALENDAR