BEGIN:VCALENDAR
VERSION:2.0
PRODID:-//wp-events-plugin.com//7.2.3.1//EN
TZID:Europe/Paris
X-WR-TIMEZONE:Europe/Paris
BEGIN:VEVENT
UID:11@suresnes-escalade.fr
DTSTART;TZID=Europe/Paris:20150201T160000
DTEND;TZID=Europe/Paris:20150201T190000
DTSTAMP:20150110T001112Z
URL:https://suresnes-escalade.fr/sorties/sortie-a-villennes-le-1er-fevrier
 /
SUMMARY:Sortie à Villennes le 1er février
DESCRIPTION:DEMONS : Découverte de l’Escalade des Murs et Ouvreurs Non S
 uresnois.\n\nChers adhérents\, une sortie est organisée prochainement à
  Villennes\, le dimanche 1er février 2015 de 16h à 19h. Cette sortie GRA
 TUITE pour les adhérents du club et s’adresse aux adultes et ados ayant
  le passeport FFME Orange. Venez découvrir les célèbres "toits de Meudo
 n".\n\n[caption id="attachment_1611" align="aligncenter" width="288"] Mur 
 de Villennes Escalade[/caption]\n\nIl n’y a que 10 places alors les prem
 iers inscrits seront les premiers à grimper ! Pour vous inscrire\, merci 
 de compléter le formulaire ci-dessous.\n\nConditions pour participer à l
 a sortie :\n\n	Avoir obtenu le passeport FFME Orange. Vous pouvez demander
  au BE qui vous encadre habituellement au club de vous faire passer les te
 sts.\n	Disposer de votre matériel individuel (chaussons\, baudrier et sys
 tème d'assurage). Si vous n'avez pas cela\, prévenez moi à l'avance\, l
 e club peut vous dépanner.\nSystème d'assurage autorisé : pas de huit 
 ni autobloquant\, reste donc les puits.\nPas de magnésie en poudre. Seule
  la magnésie liquide est autorisée.\n\n\n&nbsp\;\n\n\n\nLe transport ser
 a effectué en covoiturage au départ du gymnase du Belvédère. L'heure v
 ous sera précisée peu avant le départ. Merci de préciser en commentair
 e votre de moyen de transport (Exemple: j'ai 3 places dans ma voiture / j'
 y vais directement / j'ai pas de moyen de transport et souhaite que l'on m
 ’emmène / etc...)
CATEGORIES:Sortie Salle IdF
LOCATION:Salle d'escalade Patrick Berhault\, Villennes\, Pré aux Moutons\,
  Villennes-sur-Seine\, Yvelines\, 78670\, Ile-de-France\, France
GEO:48.93633819999999;1.9919230000000425
X-APPLE-STRUCTURED-LOCATION;VALUE=URI;X-ADDRESS=Pré aux Moutons\, Villenne
 s-sur-Seine\, Yvelines\, 78670\, Ile-de-France\, France;X-APPLE-RADIUS=100
 ;X-TITLE=Salle d'escalade Patrick Berhault\, Villennes:geo:48.936338199999
 99,1.9919230000000425
END:VEVENT
BEGIN:VTIMEZONE
TZID:Europe/Paris
X-LIC-LOCATION:Europe/Paris
BEGIN:STANDARD
DTSTART:20141026T020000
TZOFFSETFROM:+0200
TZOFFSETTO:+0100
TZNAME:CET
END:STANDARD
END:VTIMEZONE
END:VCALENDAR