BEGIN:VCALENDAR
VERSION:2.0
PRODID:-//wp-events-plugin.com//7.2.3.1//EN
TZID:Europe/Paris
X-WR-TIMEZONE:Europe/Paris
BEGIN:VEVENT
UID:160@suresnes-escalade.fr
DTSTART;TZID=Europe/Paris;VALUE=DATE:20240630
DTEND;TZID=Europe/Paris;VALUE=DATE:20240701
DTSTAMP:20240602T191551Z
URL:https://suresnes-escalade.fr/sorties/sortie-andelys-02-06-2024/
SUMMARY:[Sortie] Sortie - Andelys (Franck M) - juin 2024
DESCRIPTION:SuresnEscalade vous propose une sortie\, sur les falaises des A
 ndélys\, encadrée par Franck M.\, ouverte en priorité aux adultes débu
 tants\, mais pas que !\n\nLes falaises des Andélys dans l’Eure (1h15 de
  voiture depuis Paris)\, surplombant la Seine sont idéales pour l’initi
 ation et la découverte de l’escalade en milieu naturel.\n\nLe rocher tr
 ès contrasté\, de la craie parsemée de silex\, facilite la lecture des 
 voies... On retrouve mais en noir et blanc\, le style des voies de mur.\n\
 n&nbsp\;\n\n&nbsp\;\n\nLe matériel (cordes\, dégaines\, casques) est mis
  à disposition par le club. Merci de préciser si vous avez besoin du pr
 êt d'un baudrier et si vous avez déjà un casque.\n\nPublic visé :\n\n
  	Adultes adhérents du club - priorité donnée aux débutants et ouverte
  à tous les adhérents adultes.\n\nHoraires :\n\n 	RDV à 8h00 au Gymnase
  du Belvédère (Suresnes) et retour approximatif vers 17h\n 	Le covoitura
 ge sera organisé depuis le gymnase avec les voitures individuelles  des 
 uns et des autres (les frais de covoiturage seront à repartir par voiture
  hors propriétaire)\n\nInscription : obligatoire pour participer (en pré
 cisant en commentaires si vous avez un véhicule et le nombre de places)\n
 \nMerci d'indiquer à l'encadrant (par mail à sortie@suresnes-escalade.fr
 ) les informations suivantes :\n\n 	Nom\, prénom du grimpeur\n 	Coordonn
 ées de la personne à prévenir en cas d’urgence\n\nMatériel individue
 l (les EPI personnels doivent être conformes aux normes CE ou UIAA)\n\n 	
 Nécessaire : baudrier / chaussons / casque OBLIGATOIRE / système d’as
 surage (type reservo ou autobloquant) sur mousqueton de sécurité (évent
 uellement directionnel) – emprunt possible de matériel auprès du Club\
 , prévenir les organisateurs avant la sortie\n 	Optionnel : longe simple 
 ou double / mousqueton de sécurité / maillon rapide / anneau de sangle 1
 20cm / cordelette pour noeud autobloquant de rappel\n\nLe club fournira co
 rdes et dégaines.\n\nEquipement individuel :\n\n 	Vêtements selon la m
 étéo\n 	Pas de bagues\, ni de montre\, ni de bijoux\n 	Chaussures de ran
 donnée basses (pour l'assurage au pied des voies)\n 	Pique-nique\, collat
 ion\, fruits secs à grignoter (selon les besoins de chacun)\n 	De l'eau (
 ou boisson non alcoolisée!)\n\nCommunication : Effectuée via un groupe W
 hatsApp dont le lien sera envoyé ultérieurement
CATEGORIES:Sortie Site Naturel
LOCATION:Les Andelys\, 8-20 Route des Andelys\, Les Andelys\, 27700\, Franc
 e
GEO:49.2530084;1.3803804000000355
X-APPLE-STRUCTURED-LOCATION;VALUE=URI;X-ADDRESS=8-20 Route des Andelys\, Le
 s Andelys\, 27700\, France;X-APPLE-RADIUS=100;X-TITLE=Les Andelys:geo:49.2
 530084,1.3803804000000355
END:VEVENT
BEGIN:VTIMEZONE
TZID:Europe/Paris
X-LIC-LOCATION:Europe/Paris
BEGIN:DAYLIGHT
DTSTART:20240331T030000
TZOFFSETFROM:+0100
TZOFFSETTO:+0200
TZNAME:CEST
END:DAYLIGHT
END:VTIMEZONE
END:VCALENDAR