BEGIN:VCALENDAR
VERSION:2.0
PRODID:-//wp-events-plugin.com//7.2.3.1//EN
TZID:Europe/Paris
X-WR-TIMEZONE:Europe/Paris
BEGIN:VEVENT
UID:12@suresnes-escalade.fr
DTSTART;TZID=Europe/Paris;VALUE=DATE:20150426
DTEND;TZID=Europe/Paris;VALUE=DATE:20150504
DTSTAMP:20150420T112937Z
URL:https://suresnes-escalade.fr/sorties/sortie-ardeche-2015/
SUMMARY:Stage adultes/enfants en Ardèche
DESCRIPTION:Après le vif succès remporté par la nouvelle formule en 2014
 \, Suresnes Escalade vous propose à nouveau un stage escalade en Ardèche
  entre adultes et enfants\, grimpeurs et non grimpeurs. Kesako ? Le prin
 cipe est simple : Nous organisons un séjour d’une semaine en Ardèche 
 pendant les vacances de printemps du dimanche 26 avril au dimanche 3 mai.
  Si vous êtes adhérent adulte à Suresnes escalade vous pouvez venir se
 ul ou avec conjoint et enfants si vous le souhaitez et si c’est votre en
 fant qui est grimpeur à Suresnes Escalade\, vous pouvez l’accompagner e
 n famille. Dans la journée\, les grimpeurs\, encadré par Olivier Lebret
 on notre BE\, entraineur de notre équipe compétition\, iront grimper sur
  les falaises à l’aplomb de la rivière du Chassezac et les non-grimpeu
 rs auront à leur disposition de nombreuses activités sportives ou non\, 
 la semaine ne devrait pas suffire pour découvrir cette superbe région :
  canoé-kayak\, randonnée\, vélo ou visites de sites touristiques\, mus
 ées\, grottes et gorges\, farniente. L’Ardèche est une très belle r
 égion au climat exceptionnel où il fait bon séjourner au printemps. En 
 effet\, il n’est pas rare que l’on ait déjà un avant-goût de l’é
 té à cette époque.\n\nLogement :\nNous vous proposons de loger à Caste
 ljau\, à quelques kilomètres de Vallon Pont d’Arc au camping Chaulet p
 lage ou nous avons réservé des chalets entièrement équipés (3 chambre
 s de 2 personnes\, coin cuisine\, salles d’eau et wc).\n\nRepas :\nLes r
 epas du soir se prendront avec l’ensemble du groupe au restaurant du ca
 mping alors que les petits déjeuners et les déjeuners/pique-niques se pr
 épareront aux chalets pour avoir une plus grande autonomie.\n\nTransports
  :\nNous nous occupons du transport des jeunes non accompagnés de leur fa
 mille en mini bus et demanderons aux adultes de se rendre sur place en voi
 ture\, ce qui permettra aux non-grimpeurs d’être totalement indépendan
 ts.\n\nPour ce séjour\, nous vous proposons un tarif à la baisse !\n\nS
 éjour semaine du dimanche 26 avril au dimanche 3 mai :\nPour les grimpeu
 rs adhérents de Suresnes Escalade : 300€\nPour les grimpeurs non-adhé
 rents à Suresnes Escalade : 370€\nEt pour les non-grimpeurs accompagna
 teurs : 200€\n\nSéjour week-end prolongé du 1er mai :\nPour les gri
 mpeurs adhérents de Suresnes Escalade : 43€ / jour\nPour les grimpeurs
  non-adhérents à Suresnes Escalade : 53€ / jour\nEt pour les non-grim
 peurs accompagnateurs : 29€ / jour\n\nLes adhérents à Suresnes Escala
 de et leurs familles seront prioritaires jusqu’au 15 mars. A partir de c
 ette date\, les inscriptions extérieures à Suresnes Escalade pourront ê
 tre validées. Les inscriptions se font en ligne uniquement. Et si vous 
 vous posez des questions\, n’hésitez pas à appeler Alain au 06 33 78 0
 3 11 ou Christophe au 06 81 25 29 76\n\nNous vous attendons nombreux pour 
 cette belle destination !\n\nNB : Votre inscription sera validée dès r
 éception de votre règlement à Suresnes Escalade dans la boite à lettre
 s située à l’entrée du gymnase.
CATEGORIES:Sortie Site Naturel
LOCATION:Camping Chaulet Plage\, Terres du Moulin\, Berrias-et-Casteljau\, 
 07460\, France
GEO:44.380971;4.221409999999992
X-APPLE-STRUCTURED-LOCATION;VALUE=URI;X-ADDRESS=Terres du Moulin\, Berrias-
 et-Casteljau\, 07460\, France;X-APPLE-RADIUS=100;X-TITLE=Camping Chaulet P
 lage:geo:44.380971,4.221409999999992
END:VEVENT
BEGIN:VTIMEZONE
TZID:Europe/Paris
X-LIC-LOCATION:Europe/Paris
BEGIN:DAYLIGHT
DTSTART:20150329T030000
TZOFFSETFROM:+0100
TZOFFSETTO:+0200
TZNAME:CEST
END:DAYLIGHT
END:VTIMEZONE
END:VCALENDAR