BEGIN:VCALENDAR
VERSION:2.0
PRODID:-//wp-events-plugin.com//7.2.3.1//EN
TZID:Europe/Paris
X-WR-TIMEZONE:Europe/Paris
BEGIN:VEVENT
UID:39@suresnes-escalade.fr
DTSTART;TZID=Europe/Paris:20160619T093000
DTEND;TZID=Europe/Paris:20160619T190000
DTSTAMP:20160615T130243Z
URL:https://suresnes-escalade.fr/sorties/sortie-bleau-le-dimanche-19-juin-
 en-remplacement-de-la-dominicale/
SUMMARY:Sortie Bleau le dimanche 19 juin  (en remplacement de la dominicale
 ) 
DESCRIPTION:Chers adhérents\,\nDimanche 19 juin\, les rochers de Fontaineb
 leau sont à nous !!!\nVenez découvrir la forêt et les plaisirs de la g
 rimpe sur des vrais blocs\, ou tout simplement vous promener dans cette m
 agnifique forêt et partager un moment convivial entre les grimpeurs et l
 eurs familles.\nSortie encadrée par Florian Bourdon\n\nCette sortie rempl
 ace la dominicale. Toutefois\, en cas de pluie\, la sortie sera annulée e
 t la dominicale maintenue.\n\nDates :\nDépart du gymnase du Belvédère\
 , Dimanche 19 juin à 9h30 ou rendez-vous sur place.\nRetour le même jo
 ur dans la soirée.\n\nLieu :\nForêt de Fontainebleau – secteur précis
 é sous peu (probablement du coté de Milly la foret)\n\nRepas :\nPique-ni
 que et eau à prévoir pour tenir l’après-midi.\n\nTransport :\nCovoitu
 rage entre les inscrits. (Précisez si vous êtes véhiculés lors de l’
 inscription).\n\nMatériel nécessaire pour l’escalade :\nVos chaussons\
 , un crashpad (pour amortir les chutes) si vous avez.\nFourni par le club 
 en complément : quelques crashpad.\nConseillé : colophane (pof) pour ne 
 pas abimer les rochers\, ou magnésie.\n\nNiveau Requis :\nTous niveaux.\n
 \nEncadrement :\nAssuré par Florian Bourdon.\n\nPlaces :\nLa forêt est g
 rande\, pas de limitation\, hormis celle induite par le covoiturage.\n\nCo
 ût :\nGratuit! sauf pour le covoiturage\, prévoyez 5€ pour votre condu
 cteur!
CATEGORIES:Ouverture dominicale,Sortie Site Naturel,Vie du club
LOCATION:Bleau\, eglise\, milly la foret\, France
GEO:48.403304;2.468334000000027
X-APPLE-STRUCTURED-LOCATION;VALUE=URI;X-ADDRESS=eglise\, milly la foret\, F
 rance;X-APPLE-RADIUS=100;X-TITLE=Bleau:geo:48.403304,2.468334000000027
END:VEVENT
BEGIN:VTIMEZONE
TZID:Europe/Paris
X-LIC-LOCATION:Europe/Paris
BEGIN:DAYLIGHT
DTSTART:20160327T030000
TZOFFSETFROM:+0100
TZOFFSETTO:+0200
TZNAME:CEST
END:DAYLIGHT
END:VTIMEZONE
END:VCALENDAR