BEGIN:VCALENDAR
VERSION:2.0
PRODID:-//wp-events-plugin.com//7.2.3.1//EN
TZID:Europe/Paris
X-WR-TIMEZONE:Europe/Paris
BEGIN:VEVENT
UID:161@suresnes-escalade.fr
DTSTART;TZID=Europe/Paris;VALUE=DATE:20240706
DTEND;TZID=Europe/Paris;VALUE=DATE:20240707
DTSTAMP:20240622T185058Z
URL:https://suresnes-escalade.fr/sorties/sortie-bleau-samedi-01-06-24/
SUMMARY:Sortie Bleau - Samedi 6 juillet 2024
DESCRIPTION:Suresnes Escalade organise une sortie à Fontainebleau encadré
 e par Olivier Lebreton le samedi 6 juillet\n\n\n 	Tout public à partir de
  14 ans\n 	En dessous de 14 ans accompagnement des parents\n 	Prévoir son
  pique-nique\n 	Vêtements à adapter en fonction de la météo\n 	Horaire
 s :\n\n 	RDV à 9h00 au Gymnase du Belvédère (Suresnes)\n 	Le covoiturag
 e sera organisé depuis le gymnase avec les voitures individuelles  des u
 ns et des autres (les frais de covoiturage seront à repartir par voiture
  hors propriétaire)\n\nInscription : obligatoire pour participer (en pr
 écisant en commentaires si vous avez un véhicule et le nombre de places)
 \n\nMerci d’indiquer à l’encadrant (par mail à sortie@suresnes-escal
 ade.fr) les informations suivantes :\n\n 	Nom\, prénom du grimpeur\n 	Coo
 rdonnées de la personne à prévenir en cas d’urgence\n\n\n 	Communicat
 ion : Effectuée via un groupe WhatsApp dont le lien sera envoyé ultéri
 eurement\n\n&nbsp\;
CATEGORIES:Sortie Site Naturel
END:VEVENT
BEGIN:VTIMEZONE
TZID:Europe/Paris
X-LIC-LOCATION:Europe/Paris
BEGIN:DAYLIGHT
DTSTART:20240331T030000
TZOFFSETFROM:+0100
TZOFFSETTO:+0200
TZNAME:CEST
END:DAYLIGHT
END:VTIMEZONE
END:VCALENDAR