BEGIN:VCALENDAR
VERSION:2.0
PRODID:-//wp-events-plugin.com//7.2.3.1//EN
TZID:Europe/Paris
X-WR-TIMEZONE:Europe/Paris
BEGIN:VEVENT
UID:87@suresnes-escalade.fr
DTSTART;TZID=Europe/Paris:20200131T090000
DTEND;TZID=Europe/Paris:20210131T170000
DTSTAMP:20210227T181958Z
URL:https://suresnes-escalade.fr/sorties/sortie-bloc-a-fontainebleau-diman
 che-31-01-2021/
SUMMARY:Sortie Bloc à Fontainebleau dimanche 31/01/2021
DESCRIPTION:Suresnes Escalade organise une sortie adulte gratuite pour ses 
 membres.\nLa sortie ne sera pas encadrée\, mais Olivier sera dans les par
 ages et s'occupera de l'équipe compétition.\nLe transport sera organisé
  avec les voitures des volontaires. (Nous recommandons de donner 5€ au c
 hauffeur pour le trajet A/R).\nLa météo est correcte mais fraiche. Prév
 oir des vêtements chaud et de pluie en cas d'averse imprévue. Prévoir a
 ussi des chaussures de marche si la grimpe devient trop difficile.\n\nDép
 art 9:00 RDV devant le gymnase\nRetour 17:00 devant le gymnase.\n\nChacun 
 doit amener son pique-nique.
CATEGORIES:Sortie Site Naturel
LOCATION:Forêt de Fontainebleau\, Chemin des Sables du Cul de Chien\, Nois
 y sur Ecole\, 77123\, France
GEO:48.37605600000001;2.5217549999999846
X-APPLE-STRUCTURED-LOCATION;VALUE=URI;X-ADDRESS=Chemin des Sables du Cul de
  Chien\, Noisy sur Ecole\, 77123\, France;X-APPLE-RADIUS=100;X-TITLE=Forê
 t de Fontainebleau:geo:48.37605600000001,2.5217549999999846
END:VEVENT
BEGIN:VTIMEZONE
TZID:Europe/Paris
X-LIC-LOCATION:Europe/Paris
BEGIN:STANDARD
DTSTART:20191027T020000
TZOFFSETFROM:+0200
TZOFFSETTO:+0100
TZNAME:CET
END:STANDARD
BEGIN:DAYLIGHT
DTSTART:20200329T030000
TZOFFSETFROM:+0100
TZOFFSETTO:+0200
TZNAME:CEST
END:DAYLIGHT
BEGIN:STANDARD
DTSTART:20201025T020000
TZOFFSETFROM:+0200
TZOFFSETTO:+0100
TZNAME:CET
END:STANDARD
END:VTIMEZONE
END:VCALENDAR