BEGIN:VCALENDAR
VERSION:2.0
PRODID:-//wp-events-plugin.com//7.2.3.1//EN
TZID:Europe/Paris
X-WR-TIMEZONE:Europe/Paris
BEGIN:VEVENT
UID:10@suresnes-escalade.fr
DTSTART;TZID=Europe/Paris:20150117T140000
DTEND;TZID=Europe/Paris:20150117T180000
DTSTAMP:20150110T001102Z
URL:https://suresnes-escalade.fr/sorties/sortie-demons-a-meudon-le-17-janv
 ier/
SUMMARY:Sortie à Meudon le 17 janvier
DESCRIPTION:DEMONS : Découverte de l’Escalade des Murs et Ouvreurs Non S
 uresnois.\n\nChers adhérents\, une sortie est organisée prochainement à
  Meudon\, le samedi 17 janvier 2015 de 14h à 18h. Cette sortie GRATUITE p
 our les adhérents du club et s’adresse aux adultes et ados ayant le pas
 seport FFME Orange. Venez découvrir les célèbres "toits de Meudon".\n\n
 [caption id="attachment_1607" align="aligncenter" width="288"] Photo du mu
 r d'escalade de Meudon.[/caption]\n\nIl n’y a que 15 places alors les pr
 emiers inscrits seront les premiers à grimper ! Pour vous inscrire\, merc
 i de compléter le formulaire ci-dessous.\n\nConditions pour participer à
  la sortie :\n\n	Avoir obtenu le passeport FFME Orange. Vous pouvez demand
 er au BE qui vous encadre habituellement au club de vous faire passer les 
 tests.\n	Disposer de votre matériel individuel (chaussons\, baudrier et s
 ystème d'assurage).\n\nLe transport sera effectué en covoiturage au dép
 art du gymnase du Belvédère. L'heure vous sera précisée peu avant le d
 épart. Merci de préciser en commentaire votre de moyen de transport (Exe
 mple: j'ai 3 places dans ma voiture / j'y vais directement / j'ai pas de m
 oyen de transport et souhaite que l'on m’emmène / etc...)
CATEGORIES:Sortie Salle IdF
LOCATION:Gymnase Pierre et Marie Curie\, Meudon\, 4 rue Pierre et Marie Cur
 ie\, Meudon-la-Forêt\, Hauts-de-Seine\, 92360\, Ile-de-France\, France
GEO:48.7894696;2.2284870999999384
X-APPLE-STRUCTURED-LOCATION;VALUE=URI;X-ADDRESS=4 rue Pierre et Marie Curie
 \, Meudon-la-Forêt\, Hauts-de-Seine\, 92360\, Ile-de-France\, France;X-AP
 PLE-RADIUS=100;X-TITLE=Gymnase Pierre et Marie Curie\, Meudon:geo:48.78946
 96,2.2284870999999384
END:VEVENT
BEGIN:VTIMEZONE
TZID:Europe/Paris
X-LIC-LOCATION:Europe/Paris
BEGIN:STANDARD
DTSTART:20141026T020000
TZOFFSETFROM:+0200
TZOFFSETTO:+0100
TZNAME:CET
END:STANDARD
END:VTIMEZONE
END:VCALENDAR