BEGIN:VCALENDAR
VERSION:2.0
PRODID:-//wp-events-plugin.com//7.2.3.1//EN
TZID:Europe/Paris
X-WR-TIMEZONE:Europe/Paris
BEGIN:VEVENT
UID:51@suresnes-escalade.fr
DTSTART;TZID=Europe/Paris;VALUE=DATE:20170507
DTEND;TZID=Europe/Paris;VALUE=DATE:20170509
DTSTAMP:20170503T114626Z
URL:https://suresnes-escalade.fr/sorties/sortie-falaise-bouilland-6a-oblig
 atoire/
SUMMARY:Sortie falaise Bouilland 6a obligatoire
DESCRIPTION:\n\n&nbsp\;\n\nANNULE FAUTE DE PARTICIPANTS!\n\nJuste après av
 oir voté le dimanche 7 mai\, le club vous propose de prendre la route pou
 r Bouilland\, une falaise assez confidentielle mais exceptionnelle en Bour
 gogne.\n\nLa sortie sera encadrée par Olivier Le Breton.\n\nNiveau minimu
 m requis : 6a et pratique en tête.\n\nNous dormirons en camping avec res
 taurant le dimanche soir.\n\nRetour le lundi en soirée.\n\nParticipation:
  60€ hors trajet (on s'organisera pour faire du covoiturage).\n\n&nbsp\;
 \n\n&nbsp\;\n\n&nbsp\;\n\n&nbsp\;
ATTACH;FMTTYPE=image/jpeg:https://suresnes-escalade.fr/wp-content/uploads/
 2015/01/100_05961.jpg
CATEGORIES:Compétition,Sortie Site Naturel,Vie du club
LOCATION:Bouilland\, 1 Rue de la Forge\, 21420 Bouilland\, bouilland\, Fran
 ce
GEO:47.130925;4.77678370000001
X-APPLE-STRUCTURED-LOCATION;VALUE=URI;X-ADDRESS=1 Rue de la Forge\, 21420 B
 ouilland\, bouilland\, France;X-APPLE-RADIUS=100;X-TITLE=Bouilland:geo:47.
 130925,4.77678370000001
END:VEVENT
BEGIN:VTIMEZONE
TZID:Europe/Paris
X-LIC-LOCATION:Europe/Paris
BEGIN:DAYLIGHT
DTSTART:20170326T030000
TZOFFSETFROM:+0100
TZOFFSETTO:+0200
TZNAME:CEST
END:DAYLIGHT
END:VTIMEZONE
END:VCALENDAR