BEGIN:VCALENDAR
VERSION:2.0
PRODID:-//wp-events-plugin.com//7.2.3.1//EN
TZID:Europe/Paris
X-WR-TIMEZONE:Europe/Paris
BEGIN:VEVENT
UID:114@suresnes-escalade.fr
DTSTART;TZID=Europe/Paris:20220123T090000
DTEND;TZID=Europe/Paris:20220123T180000
DTSTAMP:20220110T153906Z
URL:https://suresnes-escalade.fr/sorties/sortie-falaise-dans-loise-23-01/
SUMMARY:[Sortie] Falaise dans l'Oise 23/01
DESCRIPTION:SURESNES ESCALADE vous propose de grimper dimanche 23 janvier d
 ans l'Oise. Il s'y trouve des falaises à 1H-1H30 de Paris et avec des voi
 es allant du 3 au 7.\n\nPatrice L. (Initiateur Escalade) assurera l'encadr
 ement\, merci à lui !\n\n\n\nSite : Saint Maximin ou Mellos\n\nPublic nom
 inal: Adulte passeport orange\n\nPublic à valider au cas par cas : Mineur
  de plus de 16 ans (autorisation parentale requise) - Personne non titulai
 re du passeport orange\n\nHoraires : RDV devant le gymnase à 9h pour rejo
 indre le site en covoiturage\, retour en fin de journée (~18h à Suresnes
 )\n\nMatériel : Prévoir chaussons\, baudrier\, système d'assurage (si p
 ossible auto-freinant)\, casque (obligatoire)\, longe\, mousqueton et magn
 ésie liquide\n\nLe club fournira cordes et dégaines. En cas de besoin co
 mplémentaire l'indiquer sur le groupe WhatsApp (casque\, longe\, assureur
  auto-freinant\, ... )\n\nLogistique : Indiquer sur le groupe WhatsApp si
  vous avez une voiture disponible pour le covoiturage\n\nPrévoir eau\, pi
 que-nique pour le midi et vetement chaud\n\nInscription: Inscription limit
 ée à 10 personnes hors encadrement\, ne tardez pas \;)\n\nMerci d'indiqu
 er à l'encadrant (par mail à patrice.ladoy@gmail.com ou par téléphone 
 en privé 06-78-83-25-11) les informations suivantes :\n\n 	Nom\, prénom\
 n 	Numéro de licence FFME dont assurance\n 	Coordonnées de la personne 
 à prévenir en cas d’urgence\n\nCommunication : Effectuée via le group
 e WhatsApp suivant : https://chat.whatsapp.com/Ckf7RUUhFVxAsfAXpjtNxx\n\n
CATEGORIES:Sortie Site Naturel
LOCATION:Saint Maximin\, Rue du Chantier de Taille\, Saint-Maximin\, 60740\
 , France
X-APPLE-STRUCTURED-LOCATION;VALUE=URI;X-ADDRESS=Rue du Chantier de Taille\,
  Saint-Maximin\, 60740\, France;X-APPLE-RADIUS=100;X-TITLE=Saint Maximin:g
 eo:0,0
END:VEVENT
BEGIN:VTIMEZONE
TZID:Europe/Paris
X-LIC-LOCATION:Europe/Paris
BEGIN:STANDARD
DTSTART:20211031T020000
TZOFFSETFROM:+0200
TZOFFSETTO:+0100
TZNAME:CET
END:STANDARD
END:VTIMEZONE
END:VCALENDAR