BEGIN:VCALENDAR
VERSION:2.0
PRODID:-//wp-events-plugin.com//7.2.3.1//EN
TZID:Europe/Paris
X-WR-TIMEZONE:Europe/Paris
BEGIN:VEVENT
UID:113@suresnes-escalade.fr
DTSTART;TZID=Europe/Paris:20211219T092500
DTEND;TZID=Europe/Paris:20211219T180000
DTSTAMP:20211207T200054Z
URL:https://suresnes-escalade.fr/sorties/sortie-fontainebleau-19-decembre2
 021/
SUMMARY:[Sortie] Fontainebleau - 19 décembre 2021
DESCRIPTION:Bonjour à tous\,\n\nLe club vous propose une sortie Fontainebl
 eau le dimanche 19 décembre 2021.\n\n\n\n\nCette sortie est ouverte aux a
 dultes et aux jeunes s'ils sont accompagnés d'un parent.\n\nLe transport 
 sera organisé avec les voitures des volontaires en fonction des inscripti
 ons. (Nous recommandons de donner 5€ au chauffeur pour le trajet A/R).\n
 \nN'oubliez pas de prendre de quoi vous couvrir\, vos chaussons\, de la ma
 gnésie\, un pique-nique et de la bonne humeur.\n\nDépart 9:25 RDV devant
  le gymnase du Belvédère\nRetour 18:00 devant le gymnase.\n\n\nEn cas de
  questions\, n'hésitez pas à envoyer un mail à sortie@suresnes-escalade
 .fr\n\nPS : En cas de mauvaise météo\, nous nous rabattrons vers une sal
 le en IdF par exemple Karma
CATEGORIES:Sortie Site Naturel
LOCATION:Fontainebleau\, Route militaire\, Fontainebleau\, 77300 \, France
GEO:48.397104;2.717777999999953
X-APPLE-STRUCTURED-LOCATION;VALUE=URI;X-ADDRESS=Route militaire\, Fontaineb
 leau\, 77300 \, France;X-APPLE-RADIUS=100;X-TITLE=Fontainebleau:geo:48.397
 104,2.717777999999953
END:VEVENT
BEGIN:VTIMEZONE
TZID:Europe/Paris
X-LIC-LOCATION:Europe/Paris
BEGIN:STANDARD
DTSTART:20211031T020000
TZOFFSETFROM:+0200
TZOFFSETTO:+0100
TZNAME:CET
END:STANDARD
END:VTIMEZONE
END:VCALENDAR