BEGIN:VCALENDAR
VERSION:2.0
PRODID:-//wp-events-plugin.com//7.2.3.1//EN
TZID:Europe/Paris
X-WR-TIMEZONE:Europe/Paris
BEGIN:VEVENT
UID:110@suresnes-escalade.fr
DTSTART;TZID=Europe/Paris:20211024T092500
DTEND;TZID=Europe/Paris:20211024T180000
DTSTAMP:20211023T123304Z
URL:https://suresnes-escalade.fr/sorties/sortie-fontainebleau-24-octobre-2
 021/
SUMMARY:[Sortie] Fontainebleau - 24 octobre 2021
DESCRIPTION:Bonjour à tous\,\n\nLe club vous propose une sortie Fontainebl
 eau le dimanche 24 octobre 2021.\n\n\n\n\nCette sortie est ouverte aux adu
 ltes et aux jeunes s'ils sont accompagnés d'un parent.\n\nLe transport se
 ra organisé avec les voitures des volontaires en fonction des inscription
 s. (Nous recommandons de donner 5€ au chauffeur pour le trajet A/R).\n\n
 N'oubliez pas de prendre de quoi vous couvrir\, vos chaussons\, de la magn
 ésie\, un pique-nique et de la bonne humeur.\n\nDépart 9:25 RDV devant l
 e gymnase du Belvédère\nRetour 18:00 devant le gymnase.\n\n\nEn cas de q
 uestions\, n'hésitez pas à envoyer un mail à sortie@suresnes-escalade.f
 r\n\nPS : En cas de mauvaise météo\, nous nous rabattrons vers une salle
  en IdF.
CATEGORIES:Sortie Site Naturel
LOCATION:Fontainebleau\, Route militaire\, Fontainebleau\, 77300 \, France
GEO:48.397104;2.717777999999953
X-APPLE-STRUCTURED-LOCATION;VALUE=URI;X-ADDRESS=Route militaire\, Fontaineb
 leau\, 77300 \, France;X-APPLE-RADIUS=100;X-TITLE=Fontainebleau:geo:48.397
 104,2.717777999999953
END:VEVENT
BEGIN:VTIMEZONE
TZID:Europe/Paris
X-LIC-LOCATION:Europe/Paris
BEGIN:DAYLIGHT
DTSTART:20210328T030000
TZOFFSETFROM:+0100
TZOFFSETTO:+0200
TZNAME:CEST
END:DAYLIGHT
END:VTIMEZONE
END:VCALENDAR