BEGIN:VCALENDAR
VERSION:2.0
PRODID:-//wp-events-plugin.com//7.2.3.1//EN
TZID:Europe/Paris
X-WR-TIMEZONE:Europe/Paris
BEGIN:VEVENT
UID:34@suresnes-escalade.fr
DTSTART;TZID=Europe/Paris:20160402T110000
DTEND;TZID=Europe/Paris:20160402T180000
DTSTAMP:20160327T184843Z
URL:https://suresnes-escalade.fr/sorties/sortie-fontainebleau-le-samedi-2-
 avril/
SUMMARY:Sortie Fontainebleau le samedi 2 avril
DESCRIPTION:Le printemps est là et les blocs de Fontainebleau s'offrent 
 à nous pour profiter d'une belle journée ! Si vous ne connaissez pas\, c
 e sera l'occasion de découvrir cette incroyable endroit\, et si vous conn
 aissez déjà\, de vous trouver de nouveaux objectifs ou de vous prélasse
 r sur ses "plages".\nDates :\nDépart du gymnase du Belvédère\, samedi 2
  avril à 11h00 ou rendez-vous sur place.\nRetour le même jour dans la so
 irée.\n\nLieu :\nForêt de Fontainebleau - secteur précisé sous peu (pr
 obablement du coté de Milly la foret)\n\nRepas :\nPique-nique et eau à p
 révoir pour tenir l'après-midi.\n\nTransport :\nCovoiturage entre les in
 scrits. (Précisez si vous êtes véhiculés lors de l'inscription).\n\nMa
 tériel nécessaire pour l'escalade :\nVos chaussons\, un crashpad (pour a
 mortir les chutes) si vous avez.\nFourni par le club en complément : quel
 ques crashpad.\nConseillé : colophane (pof) pour ne pas abimer les rocher
 s\, ou magnésie.\n\nNiveau Requis :\nTous niveaux.\n\nEncadrement :\nAssu
 ré par notre Brevet d'Etat du lundi et du jeudi soir : Olivier Lebreton.\
 n\nPlaces :\nLa forêt est grande\, pas de limitation\, hormis celle indui
 te par le covoiturage.\n\nCoût :\nGratuit! sauf pour le covoiturage\, pr
 évoyez 5€ pour votre conducteur!\n\nSortie ouverte à tous les grimpeur
 s ainsi qu'à leur famille. En cas de trop mauvais temps\, un repli possib
 le sur la salle de Karma à Fontainbleau sera possible. Pour les grimpeurs
  être titulaire d'une licence adaptée\, FFME\, FFGT\, CAF\, ...). Les i
 nscriptions se font en ligne uniquement. Pour toute question un mail à so
 rtie@suresnes-escalade.fr\, ou directement à christophe au pied des voie
 s et le tour est joué.\n\nClôture des inscriptions :\nVendredi 1er avril
  à 23h59.
ATTACH;FMTTYPE=image/jpeg:https://suresnes-escalade.fr/wp-content/uploads/
 2014/09/IMG_20140828_180733.jpg
CATEGORIES:Sortie Site Naturel
LOCATION:Milly la foret\, rue de l'eglise\, Milly la foret\, 91\, France
GEO:48.3811725;2.474190799999974
X-APPLE-STRUCTURED-LOCATION;VALUE=URI;X-ADDRESS=rue de l'eglise\, Milly la 
 foret\, 91\, France;X-APPLE-RADIUS=100;X-TITLE=Milly la foret:geo:48.38117
 25,2.474190799999974
END:VEVENT
BEGIN:VTIMEZONE
TZID:Europe/Paris
X-LIC-LOCATION:Europe/Paris
BEGIN:DAYLIGHT
DTSTART:20160327T030000
TZOFFSETFROM:+0100
TZOFFSETTO:+0200
TZNAME:CEST
END:DAYLIGHT
END:VTIMEZONE
END:VCALENDAR