BEGIN:VCALENDAR
VERSION:2.0
PRODID:-//wp-events-plugin.com//7.2.3.1//EN
TZID:Europe/Paris
X-WR-TIMEZONE:Europe/Paris
BEGIN:VEVENT
UID:30@suresnes-escalade.fr
DTSTART;TZID=Europe/Paris:20160504T180000
DTEND;TZID=Europe/Paris:20160508T180000
DTSTAMP:20160325T180232Z
URL:https://suresnes-escalade.fr/sorties/sortie-grimpe-et-parapente-a-pass
 y-74/
SUMMARY:Sortie Grimpe et Parapente à Passy (74)
DESCRIPTION:Grimper\, marcher\, courir\, ce sont des choses que l'on sait f
 aire. Voler ? Un peu moins\, mais si on essayait ?! C'est tout l'objet de 
 cette sortie qui se déroulerait du coté de Passy en Haute-Savoie\, non l
 oin de Chamonix. Nous permettre de tâter du rocher dans un cadre superbe 
 et découvrir le vol via le parapente à l'occasion d'une journée dédié
  durant le séjour.\nProgramme Général :\n1 journée de parapente et 3 j
 ours de grimpe aux alentours sur des sites à définir mais il y aura le c
 hoix\n\nDates :\nDépart Mercredi 4 mai dans la soirée. Retour dimanche
  8 mai tard dans la soirée.\n\nLogement :\nNous vous proposons de loger a
 u camping des iles situé à Passy (74)\, à coté du lac\, dans des chale
 ts.\n\n\nRepas :\nLes repas du matin et du soir se prendront au camping. C
 e sera pique nique le midi. Si resto il y a\, il sera à la charge de chac
 un\n\nTransports :\nCovoiturage entre les inscrits (si vous êtes véhicul
 és\, merci de le signaler à la réservation pour faciliter l'organisatio
 n) depuis Suresnes et compris dans le prix (carburant et péages).\n\n\nMa
 tériel nécessaire pour l'escalade :\nVos chaussons \, votre baudrier\, v
 otre longe classique\, un descendeur et un machard (Paire de gants éventu
 ellement). Fourni par le club si vous n'avez pas : casque\, corde\, dégai
 nes\, mousquetons.\n\nMatériel supplémentaire pour le parapente:\nDes b
 askets\, des lunettes de soleil\, un coupe-vent\, des gants.\n\nEncadremen
 t :\nParapente : Par les membres diplomés du Club de Parapente de Jérome
  Brueziere (Grimpeur d jeudi à SE)\nEscalade : Par un guide local\n\nCo
 ût :\n Adhérent : 250 euros par personne pour les 4 jours.\nNon adhéren
 t : 300 euros par personne pour les 4 jours.\n\nPlaces :\n12 Places sont d
 isponibles  pour habiter les 2 chalets réservés au Camping.\n\n\nProgra
 mme Possible :\n\nMercredi 4 : Départ dans la soirée\nJeudi 5 : Grimpe o
 u Parapente en fonction de la météo\nVendredi 6 : Grimpe ou Parapente en
  fonction de la météo\nSamedi 7 : Grimpe ou Parapente en fonction de la 
 météo\nDimanche 8 : Grimpe le matin\, retour sur Suresnes dans l'après-
 midi\n\nLes adhérents à Suresnes Escalade seront prioritaires jusqu’au
  15 Avril. A partir de cette date\, les inscriptions extérieures à Sures
 nes Escalade pourront être validées (dans la mesure des stocks disponibl
 es). Les inscriptions se font en ligne uniquement. Pour toute question un
  petit mail à sortie@suresnes-escalade.fr\, ou directement à Guillaume P
 asquet ou Jérôme Brueziere au pied des voies et le tour est joué.\n\nNB
  : Votre inscription sera validée dès réception de votre règlement à 
 Suresnes Escalade dans la boite à lettres située à l’entrée du gymna
 se.
ATTACH;FMTTYPE=image/jpeg:https://suresnes-escalade.fr/wp-content/uploads/
 2016/03/11270622_1060422160652469_5159409298226031123_o.jpg
CATEGORIES:Sortie Site Naturel
LOCATION:Passy\, 245 Route des Lacs\, Passy\, 74190\, France
GEO:45.9298243;6.722189299999968
X-APPLE-STRUCTURED-LOCATION;VALUE=URI;X-ADDRESS=245 Route des Lacs\, Passy\
 , 74190\, France;X-APPLE-RADIUS=100;X-TITLE=Passy:geo:45.9298243,6.7221892
 99999968
END:VEVENT
BEGIN:VTIMEZONE
TZID:Europe/Paris
X-LIC-LOCATION:Europe/Paris
BEGIN:DAYLIGHT
DTSTART:20160327T030000
TZOFFSETFROM:+0100
TZOFFSETTO:+0200
TZNAME:CEST
END:DAYLIGHT
END:VTIMEZONE
END:VCALENDAR