BEGIN:VCALENDAR
VERSION:2.0
PRODID:-//wp-events-plugin.com//7.2.3.1//EN
TZID:Europe/Paris
X-WR-TIMEZONE:Europe/Paris
BEGIN:VEVENT
UID:111@suresnes-escalade.fr
DTSTART;TZID=Europe/Paris:20211127T090000
DTEND;TZID=Europe/Paris:20211127T180000
DTSTAMP:20211109T125809Z
URL:https://suresnes-escalade.fr/sorties/sortie-les-andelys-27-11/
SUMMARY:[Sortie] Les Andelys 27/11
DESCRIPTION:SURESNES ESCALADE vous propose de grimper samedi 27 novembre au
 x Andelys. Il s'agit une falaise calcaire normande à 1h14 du Belvédère 
 et avec une vue magnifique sur les méandres de la seine !\n\nLes différe
 nts secteurs disponibles permettent la proposition de voie du 4 au 7.\n\n\
 n\nPublic : Adulte niveau passeport orange - Sortie ouverte aux non-autono
 mes en falaise\n\nPatrice L. (Initiateur Escalade) assurera l'encadrement 
 afin notamment d'accompagner les non-autonomes en falaise\n\nHoraires : RD
 V devant le gymnase à 9h pour rejoindre le site en covoiturage\, retour e
 n fin de journée (~18h à Suresnes)\n\nMatériel : Prévoir chaussons\, b
 audrier\, système d'assurage (si possible auto-freinant)\, casque(obligat
 oire)\, longe\, mousqueton et magnésie liquide\n\nLe club fournira cordes
  et dégaines. En cas de besoin complémentaire l'indiquer en commentaire 
 de l'inscription (casque\, longe\, assureur auto-freinant\, ... )\n\nLogis
 tique : Indiquer en commentaire si vous avez une voiture disponible pour 
 le covoiturage\n\nPrévoir eau\, pique-nique pour le midi et vetement chau
 d\n\nInscription: Inscription limitée à 10 personnes hors encadrement\, 
 ne tardez pas \;)\n\nEn cas de questions\, n’hésitez pas à envoyer un 
 mail à sortie@suresnes-escalade.fr
CATEGORIES:Sortie Site Naturel
LOCATION:Les Andelys\, 8-20 Route des Andelys\, Les Andelys\, 27700\, Franc
 e
GEO:49.2538947;1.3795642000000043
X-APPLE-STRUCTURED-LOCATION;VALUE=URI;X-ADDRESS=8-20 Route des Andelys\, Le
 s Andelys\, 27700\, France;X-APPLE-RADIUS=100;X-TITLE=Les Andelys:geo:49.2
 538947,1.3795642000000043
END:VEVENT
BEGIN:VTIMEZONE
TZID:Europe/Paris
X-LIC-LOCATION:Europe/Paris
BEGIN:STANDARD
DTSTART:20211031T020000
TZOFFSETFROM:+0200
TZOFFSETTO:+0100
TZNAME:CET
END:STANDARD
END:VTIMEZONE
END:VCALENDAR