BEGIN:VCALENDAR
VERSION:2.0
PRODID:-//wp-events-plugin.com//7.2.3.1//EN
TZID:Europe/Paris
X-WR-TIMEZONE:Europe/Paris
BEGIN:VEVENT
UID:89@suresnes-escalade.fr
DTSTART;TZID=Europe/Paris:20210314T100000
DTEND;TZID=Europe/Paris:20210314T170000
DTSTAMP:20210313T130425Z
URL:https://suresnes-escalade.fr/sorties/sortie-orange-grimpe-sur-le-mur-d
 es-poissonniers/
SUMMARY:(Sortie orange) Grimpe sur le mur des Poissonniers
DESCRIPTION:SURESNES ESCALADE vous propose de grimper dimanche 14 mars sur 
 le mur des poissonniers (métro Porte de la Chapelle ligne 12). Il s'agit 
 d'un mur extérieur avec de nombreuses voies accessibles et qui reste ouve
 rt malgré les restrictions sanitaires.\n\n\n\nPublic : adhérents du club
  autonomes (titulaires du passeport orange)\n\nHoraires : RDV directement 
 sur place vers 10h00 ou co-voiturage depuis le gymnase du Belvédère (dé
 part 9h30)\, retour dans l'après-midi.\n\nMatériel : pensez à imprimer 
 votre licence et l'emmener (exigée à l'entrée)\, chaussons\, baudrier\,
  système d'assurage\, magnésie liquide\, masque\, gel hydro-alcoolique\n
 \nLe club fournira cordes et dégaines\n\nPrévoir eau et pique-nique pour
  le midi
CATEGORIES:Echange Inter-Clubs,Sortie Salle IdF,Vie du club
LOCATION:Mur des poissonniers\, 2 rue jean Cocteau\, Paris\, 75018\, France
X-APPLE-STRUCTURED-LOCATION;VALUE=URI;X-ADDRESS=2 rue jean Cocteau\, Paris\
 , 75018\, France;X-APPLE-RADIUS=100;X-TITLE=Mur des poissonniers:geo:0,0
END:VEVENT
BEGIN:VTIMEZONE
TZID:Europe/Paris
X-LIC-LOCATION:Europe/Paris
BEGIN:STANDARD
DTSTART:20201025T020000
TZOFFSETFROM:+0200
TZOFFSETTO:+0100
TZNAME:CET
END:STANDARD
END:VTIMEZONE
END:VCALENDAR