BEGIN:VCALENDAR
VERSION:2.0
PRODID:-//wp-events-plugin.com//7.2.3.1//EN
TZID:Europe/Paris
X-WR-TIMEZONE:Europe/Paris
BEGIN:VEVENT
UID:41@suresnes-escalade.fr
DTSTART;TZID=Europe/Paris;VALUE=DATE:20161029
DTEND;TZID=Europe/Paris;VALUE=DATE:20161107
DTSTAMP:20161004T163444Z
URL:https://suresnes-escalade.fr/sorties/sortie-sardaigne/
SUMMARY:Sortie Sardaigne
DESCRIPTION:Le club organise une sortie en Sardaigne du 29 octobre au 6 nov
 embre.\n\nProgramme: 3 jours à Ulassai et 3 jours à cala Gonona\n\nNivea
 u requis:\n\n 	expérience falaise\n 	être autonome au niveau des manipul
 ations de sécurité ( relais\, rappel\, reprise de moulinette\, assurage 
 du second).\n 	Pas de révision sur place\; bien s'entraîner avant.\n 	Ni
 veau Passeport bleu conseillé\n\nMatériel :\n\n 	Perso : Chaussons\, bau
 drier\, casque\, crème solaire...\n 	Club: cordes et dégaines\n\nHéberg
 ement en dortoir ou bungalow\n\nOn louera des voitures pour se déplacer!\
 n\nBudget:\n\n 	300€ qui comprend: hébergement\, repas\, location voit
 ure\n 	Avion: chacun prend son billet\n\nAvion:\n\n 	arrivée à l'aeropor
 t de cagliari au maximum le samedi à 22h\n 	départ groupé du dimanche 6
  novembre à partir de 12H\n\nOrganisateur: christophe (cfouille@gmail.com
 )
CATEGORIES:Sortie Site Naturel,Vie du club
LOCATION:sardaigne\, Via dei Trasvolatori\, cagliari\, Italie
GEO:39.2537873;9.064237999999932
X-APPLE-STRUCTURED-LOCATION;VALUE=URI;X-ADDRESS=Via dei Trasvolatori\, cagl
 iari\, Italie;X-APPLE-RADIUS=100;X-TITLE=sardaigne:geo:39.2537873,9.064237
 999999932
END:VEVENT
BEGIN:VTIMEZONE
TZID:Europe/Paris
X-LIC-LOCATION:Europe/Paris
BEGIN:DAYLIGHT
DTSTART:20160327T030000
TZOFFSETFROM:+0100
TZOFFSETTO:+0200
TZNAME:CEST
END:DAYLIGHT
BEGIN:STANDARD
DTSTART:20161030T020000
TZOFFSETFROM:+0200
TZOFFSETTO:+0100
TZNAME:CET
END:STANDARD
END:VTIMEZONE
END:VCALENDAR