BEGIN:VCALENDAR
VERSION:2.0
PRODID:-//wp-events-plugin.com//7.2.3.1//EN
TZID:Europe/Paris
X-WR-TIMEZONE:Europe/Paris
BEGIN:VEVENT
UID:9@suresnes-escalade.fr
DTSTART;TZID=Europe/Paris:20141217T200000
DTEND;TZID=Europe/Paris:20141217T220000
DTSTAMP:20141208T094412Z
URL:https://suresnes-escalade.fr/sorties/sortie-sartrouville-escalade-17-d
 ecembre-2014/
SUMMARY:SORTIE SARTROUVILLE ESCALADE - 17 décembre 2014
DESCRIPTION:Sortie échange Inter club avec SARTROUVILLE ESCALADE - Venez n
 ombreux!
CATEGORIES:Echange Inter-Clubs,Sortie Salle IdF
LOCATION:SARTROUVILLE\, gymnase Colette\, SARTROUVILLE\, 78500\, Yvelines\,
  France
GEO:48.941106;2.158431000000064
X-APPLE-STRUCTURED-LOCATION;VALUE=URI;X-ADDRESS=gymnase Colette\, SARTROUVI
 LLE\, 78500\, Yvelines\, France;X-APPLE-RADIUS=100;X-TITLE=SARTROUVILLE:ge
 o:48.941106,2.158431000000064
END:VEVENT
BEGIN:VTIMEZONE
TZID:Europe/Paris
X-LIC-LOCATION:Europe/Paris
BEGIN:STANDARD
DTSTART:20141026T020000
TZOFFSETFROM:+0200
TZOFFSETTO:+0100
TZNAME:CET
END:STANDARD
END:VTIMEZONE
END:VCALENDAR