BEGIN:VCALENDAR
VERSION:2.0
PRODID:-//wp-events-plugin.com//7.2.3.1//EN
TZID:Europe/Paris
X-WR-TIMEZONE:Europe/Paris
BEGIN:VEVENT
UID:119@suresnes-escalade.fr
DTSTART;TZID=Europe/Paris:20220319T120000
DTEND;TZID=Europe/Paris:20220319T180000
DTSTAMP:20220309T214733Z
URL:https://suresnes-escalade.fr/sorties/sortie-verticalite-oise-ou-essonn
 e-19-03-21/
SUMMARY:[Sortie] Verticalité (Oise ou Essonne) - 19/03/21
DESCRIPTION:SURESNES ESCALADE vous propose une sortie verticalité samedi 1
 9 mars dans l'Oise ou dans l'Essonne qui sera encadrée par Patrice L. (In
 itiateur Escalade)\, merci à lui !\n\nAu programme : Découverte\, initia
 tion à quelques notions utiles en grande voie (rappel\, assurage d’un s
 econd\, appréhension du vide)\n\nLieux (choix au dernier moment en fonct
 ion de la météo compte-tenu des prévisions) :\n\n 	Falaises de St Maxim
 in (Creil – 60)\n 	Falaise de Saint-Vaast-lès-Mellos (Creil – 60)\n 	
 Viaduc des Fauvettes (Essonne – 91)\n\nPublic nominal: Adulte passeport 
 orange\n\nPublic à valider au cas par cas : Mineur de plus de 16 ans (aut
 orisation parentale requise) - Personne non titulaire du passeport orange\
 n\nHoraires : RDV à 12h au Gymnase du Belvédère (Suresnes) pour rejoind
 re le lieu de grimpe en co-voiturage\, retour en fin de journée\n\nMatér
 iel individuel :\n\n 	Nécessaire : baudrier / chaussons / casque OBLIGATO
 IRE en extérieur / système d’assurage (type reservo ou autobloquant) s
 ur mousqueton de sécurité (éventuellement directionnel) – EMPRUNT AUP
 RES DU CLUB SI BESOIN\n 	Optionnel : longe simple ou double (si possible m
 anufacturée) / mousqueton de sécurité / maillon rapide\n\nLe club fourn
 ira cordes et dégaines. En cas de besoin complémentaire l'indiquer sur l
 e groupe WhatsApp (casque\, longe\, assureur auto-freinant\, ... )\n\nLogi
 stique :\n\n 	Equipement personnel compte tenu de la journée et de la mé
 téo\n 	Pas de bagues\, ni de montre\, ni de bijoux\n 	Chaussures de rando
 nnée (éventuellement basses pour la marche d’approche et assurage au p
 ied des voies)\n 	Collation et fruits secs à grignoter (selon les besoins
  de chacun)\n 	Boisson (non alcoolisée!) et thermos de thé ou de café\n
 \nInscription: Inscription limitée à 10 personnes hors encadrement\, ne 
 tardez pas \;)\n\nMerci d'indiquer à l'encadrant (par mail à patrice.lad
 oy[at]gmail.com ou par téléphone en privé 06-78-83-25-11) les informati
 ons suivantes :\n\n 	Nom\, prénom\n 	Numéro de licence FFME dont assuran
 ce\n 	Coordonnées de la personne à prévenir en cas d’urgence\n\nCommu
 nication : Effectuée via le groupe WhatsApp suivant : https://chat.whatsa
 pp.com/BlJurg2A2JCIV2pulHSgpX\n\n\n\nDisposition COVID :\n\n 	Ne pas relâ
 cher sa vigilance pendant la sortie\n 	Savoir renoncer au séjour en cas d
 e symptômes ou de contact avec un cas avéré\n 	Signaler l’apparition 
 de symptômes même quelques jours après la sortie\n
CATEGORIES:Sortie Site Naturel
LOCATION:\, \, 
X-APPLE-STRUCTURED-LOCATION;VALUE=URI;X-ADDRESS=\, ;X-APPLE-RADIUS=100;X-TI
 TLE=:geo:0,0
END:VEVENT
BEGIN:VTIMEZONE
TZID:Europe/Paris
X-LIC-LOCATION:Europe/Paris
BEGIN:STANDARD
DTSTART:20211031T020000
TZOFFSETFROM:+0200
TZOFFSETTO:+0100
TZNAME:CET
END:STANDARD
END:VTIMEZONE
END:VCALENDAR