BEGIN:VCALENDAR
VERSION:2.0
PRODID:-//wp-events-plugin.com//7.2.3.1//EN
TZID:Europe/Paris
X-WR-TIMEZONE:Europe/Paris
BEGIN:VEVENT
UID:122@suresnes-escalade.fr
DTSTART;TZID=Europe/Paris:20220423T090000
DTEND;TZID=Europe/Paris:20220423T180000
DTSTAMP:20220410T203649Z
URL:https://suresnes-escalade.fr/sorties/sortie-verticalite-oise-ou-essonn
 e-23-04-21/
SUMMARY:[Sortie] Verticalité (Oise ou Essonne) - 23/04/22
DESCRIPTION:SURESNESCALADE vous propose une sortie "VERTICALITE" le samedi
  23 avril prochain. La sortie sera encadrée par Patrice L. (Initiateur E
 scalade)\, dans l'Oise (St Maximin ou St Vaast) ou dans l'Essonne (Viaduc 
 des Fauvettes)\n\nAu programme : initiation / découverte de quelques mani
 p de cordes utiles en grande voie (rappel\, assurage d’un second\, appr
 éhension du vide) ... et bien sûr escalade\n\nLieux : (choix en fonctio
 n des conditions météo le jour de la sortie) :\n\n 	Falaises de St Maxim
 in (Creil – 60)\n 	Falaise de Saint-Vaast-lès-Mellos (Creil – 60)\n 	
 Viaduc des Fauvettes (Essonne – 91)\n\nPublic visé : Adulte passeport 
 Orange\n\nPublic à valider au cas par cas :\n\n 	Mineur de plus de 16 ans
  (autorisation parentale requise)\n 	Adulte sans passeport Orange\n\nHorai
 res :\n\n 	RDV à 9h au Gymnase du Belvédère (Suresnes)\n 	le covoiturag
 e sera organisé depuis le gymnase avec nos voitures individuelles (moyenn
 ant une participation d'environ 5€)\n\nInscription: Inscription limitée
  à 10 personnes\n\nMerci d'indiquer à l'encadrant (par mail à patrice.l
 adoy@gmail.com ou par téléphone en privé 06-78-83-25-11) les informatio
 ns suivantes :\n\n 	Nom\, prénom\n 	Numéro de licence FFME dont assuranc
 e\n 	Coordonnées de la personne à prévenir en cas d’urgence\n\nMatér
 iel individuel (les EPI personnels doivent être conformes aux normes CE o
 u UIAA)\n\n 	Nécessaire : baudrier / chaussons / casque OBLIGATOIRE / sy
 stème d’assurage (type reservo ou autobloquant) sur mousqueton de sécu
 rité (éventuellement directionnel) – emprunt possible auprès du Club\
 n 	Optionnel : longe simple ou double / mousqueton de sécurité / maillon
  rapide / anneau de sangle 120cm / cordelette pour noeud autobloquant de r
 appel\n\nLe club fournira cordes et dégaines.\n\nEn cas de besoin complé
 mentaire l'indiquer sur le groupe WhatsApp\n\nLogistique :\n\n 	Equipement
  personnel compte tenu de la météo\n 	Pas de bagues\, ni de montre\, ni 
 de bijoux\n 	Chaussures de randonnée basses (pour l’approche et l'assur
 age au pied des voies)\n 	Repas froid du midi et collation\, fruits secs 
 à grignoter (selon les besoins de chacun)\n 	Boisson (non alcoolisée!) e
 t thermos de thé ou de café\n\nCommunication : Effectuée via le groupe 
 WhatsApp suivant : https://chat.whatsapp.com/DIvla2fl1wHBDwl09Z6WMf\n\n\n\
 nDisposition COVID :\n\n 	Ne pas relâcher sa vigilance pendant la sortie\
 n 	Savoir renoncer au séjour en cas de symptômes ou de contact avec un c
 as avéré\n 	Signaler l’apparition de symptômes même quelques jours a
 près la sortie\n
CATEGORIES:Sortie Site Naturel
LOCATION:Saint Maximin\, Rue du Chantier de Taille\, Saint-Maximin\, 60740\
 , France
X-APPLE-STRUCTURED-LOCATION;VALUE=URI;X-ADDRESS=Rue du Chantier de Taille\,
  Saint-Maximin\, 60740\, France;X-APPLE-RADIUS=100;X-TITLE=Saint Maximin:g
 eo:0,0
END:VEVENT
BEGIN:VTIMEZONE
TZID:Europe/Paris
X-LIC-LOCATION:Europe/Paris
BEGIN:DAYLIGHT
DTSTART:20220327T030000
TZOFFSETFROM:+0100
TZOFFSETTO:+0200
TZNAME:CEST
END:DAYLIGHT
END:VTIMEZONE
END:VCALENDAR