BEGIN:VCALENDAR
VERSION:2.0
PRODID:-//wp-events-plugin.com//7.2.3.1//EN
TZID:Europe/Paris
X-WR-TIMEZONE:Europe/Paris
BEGIN:VEVENT
UID:103@suresnes-escalade.fr
DTSTART;TZID=Europe/Paris;VALUE=DATE:20210502
DTEND;TZID=Europe/Paris;VALUE=DATE:20210503
DTSTAMP:20210426T204244Z
URL:https://suresnes-escalade.fr/sorties/sortie-viaduc-des-fauvettes-02-05
 -21/
SUMMARY:[Sortie] Viaduc des Fauvettes - 02/05/21
DESCRIPTION:Suite à l'allègement des restrictions liées aux sorties Club
 \, SURESNES ESCALADE vous propose une sortie voie dimanche 2 mai au Viadu
 c des fauvettes à Gometz-le-Châtel (45min en voiture du Belvédère).\nD
 e nombreuses voies parsèment les nombreuses arches de cet ancien viaduc\,
  ce qui en fait un des terrains de jeu majeur d'IdF.\n\n\n\nPublic : adhé
 rents du club (adulte et jeune à partir de 13 ans) débutants ou autonome
 s\n\nFranck Ansquer (BE) sera présent afin notamment d'accompagner les pl
 us débutants d'entre nous\, n'hésitez donc pas à fouiller vos fonds de 
 placard pour retrouver vos précieux chaussons !\n\nHoraires : RDV devant 
 le gymnase à 9h30 pour rejoindre le lieu de grimpe en co-voiturage\, reto
 ur dans l'après-midi (~16h)\n\nMatériel : Prévoir chaussons\, baudrier\
 , système d'assurage auto-freinant\, casque(obligatoire)\, longe et magn
 ésie liquide\n\nLe club fournira cordes et dégaines. En cas de besoin co
 mplémentaire l'indiquer en commentaire de l'inscription (casque\, longe\,
  assureur auto-freinant)\n\nKit Covid/Déplacement : Prévoir masque\, gel
  hydro-alcoolique\, licence FFME et justificatif de domicile (domicile/Gom
 etz-le-Châtel&lt\;30km vol d'oiseau)\n\nPrévoir eau et pique-nique pour 
 le midi\n\nInscription limitée à 8 personnes hors encadrement\, ne tarde
 z pas \;)
CATEGORIES:Sortie Site Naturel
LOCATION:Viaduc des Fauvettes\, Viaduc des Fauvettes\, Gometz-le-Châtel\, 
 91940\, France
X-APPLE-STRUCTURED-LOCATION;VALUE=URI;X-ADDRESS=Viaduc des Fauvettes\, Gome
 tz-le-Châtel\, 91940\, France;X-APPLE-RADIUS=100;X-TITLE=Viaduc des Fauve
 ttes:geo:0,0
END:VEVENT
BEGIN:VTIMEZONE
TZID:Europe/Paris
X-LIC-LOCATION:Europe/Paris
BEGIN:DAYLIGHT
DTSTART:20210328T030000
TZOFFSETFROM:+0100
TZOFFSETTO:+0200
TZNAME:CEST
END:DAYLIGHT
END:VTIMEZONE
END:VCALENDAR