BEGIN:VCALENDAR
VERSION:2.0
PRODID:-//wp-events-plugin.com//7.2.3.1//EN
TZID:Europe/Paris
X-WR-TIMEZONE:Europe/Paris
BEGIN:VEVENT
UID:90@suresnes-escalade.fr
DTSTART;TZID=Europe/Paris;VALUE=DATE:20210320
DTEND;TZID=Europe/Paris;VALUE=DATE:20210321
DTSTAMP:20210315T115206Z
URL:https://suresnes-escalade.fr/sorties/sortie-viaduc-des-fauvettes/
SUMMARY:[Sortie] Viaduc des Fauvettes
DESCRIPTION:SURESNES ESCALADE vous propose une sortie voie samedi 20 mars
  au Viaduc des fauvettes à Gometz-le-Châtel (45min en voiture du Belvéd
 ère).\nDe nombreuses voies parsèment les nombreuses arches de cet ancien
  viaduc\, ce qui en fait un des terrains de jeu majeur d'IdF.\n\n\n\nPubli
 c : adhérents du club débutant ou autonome\n\nFranck Ansquer (BE) sera p
 résent afin notamment d'accompagner les plus débutants d'entre nous\, n'
 hesitez donc pas à fouiller vos fonds de placard pour retrouver vos préc
 ieux chaussons !\n\nHoraires : RDV devant le gymnase à 9h30 pour rejoindr
 e le lieu de grimpe en co-voiturage\, retour dans l'après-midi (~16h)\n\n
 Matériel : Prévoir Chaussons\, baudrier\, système d'assurage\, magnési
 e liquide\, masque\, gel hydro-alcoolique\n\nLe club fournira cordes et d
 égaines. En cas de besoin complémentaire l'indiquer en commentaitre de l
 'inscription\n\nPrévoir eau et pique-nique pour le midi\n\nInscription li
 mitée à 6 personnes\, ne tardez pas \;)
CATEGORIES:Sortie Site Naturel
LOCATION:Viaduc des Fauvettes\, Viaduc des Fauvettes\, Gometz-le-Châtel\, 
 91940\, France
X-APPLE-STRUCTURED-LOCATION;VALUE=URI;X-ADDRESS=Viaduc des Fauvettes\, Gome
 tz-le-Châtel\, 91940\, France;X-APPLE-RADIUS=100;X-TITLE=Viaduc des Fauve
 ttes:geo:0,0
END:VEVENT
BEGIN:VTIMEZONE
TZID:Europe/Paris
X-LIC-LOCATION:Europe/Paris
BEGIN:STANDARD
DTSTART:20201025T020000
TZOFFSETFROM:+0200
TZOFFSETTO:+0100
TZNAME:CET
END:STANDARD
END:VTIMEZONE
END:VCALENDAR