BEGIN:VCALENDAR
VERSION:2.0
PRODID:-//wp-events-plugin.com//7.2.3.1//EN
TZID:Europe/Paris
X-WR-TIMEZONE:Europe/Paris
BEGIN:VEVENT
UID:118@suresnes-escalade.fr
DTSTART;TZID=Europe/Paris:20220317T205000
DTEND;TZID=Europe/Paris:20220321T070000
DTSTAMP:20220112T181903Z
URL:https://suresnes-escalade.fr/sorties/sortieski-de-randonnee-dans-les-h
 autes-alpes-mars-2022/
SUMMARY:[Sortie]Ski de randonnée dans les Hautes Alpes - Mars 2022
DESCRIPTION:\n\nDans le cadre des activités plus tournées vers la Montagn
 e\, le club vous propose de découvrir la randonnée à ski pendant trois 
 jours dans les montagnes au dessus de Briançon. Cette sortie s’adresse 
 à des skieurs à l’aise sur pistes (rouge / noire) avec si possible une
  pratique du hors piste et aimant randonner en montagne. Une bonne forme p
 hysique est requise pour assurer une montée de 4 à 5 heures sur une dén
 ivelée de 800 à 1000 m avant la descente à ski (avec un sac sur le dos)
 .\n\nDates :\n\nDépart le Jeudi 17 Mars à 20h50 par le train de nuit à
  Paris Austerlitz\,\nRetour le Lundi 21 Mars au matin arrivée à 7h00 par
  le train de nuit également et au même endroit\n\nPayement par chèque 
 à l'ordre de Suresnes Escalade et en ligne sur HelloASSO dans un futur pr
 oche\n\nLieu :\n\nMassif autour de Briançon (il vous sera précisé ulté
 rieurement)\n\nHébergement :\n\nDans des refuges de montagne du massif
  en demi-pension\n\nEncadrement :\n\nPar un guide de Haute-Montagne\n\nNiv
 eau requis :\n\nIl s'agit d'une sortie d'initiation mais il est indispensa
 ble de savoir skier : à savoir être à l'aise sur pistes rouge par tout 
 temps\, toute pentes\, toute neiges et si possible avoir déjà quelques e
 xpériences en hors pistes.\n\nTransport :\n\nPar le train de nuit depuis 
 la gare de Paris Austerlitz\, compris dans le prix\n\nMatériel spécifiq
 ue :\n\nLa location du matériel se  fera sur place. La location comprend
  les skis de randonnées avec peaux et bâtons\, les chaussures de ski de 
 randonnée (différentes des chaussures de skis alpin)et le kit DVA / pell
 e / sonde (sauf si prêté par le guide)\nMerci de préciser\, pointure\, 
 poids et taille à la réservation pour anticiper sur les locations ou au 
 contraire d'indiquer si vous avez votre propre matériel.\n\nMatériel gé
 néral :\n\nVêtements chauds pouvant êtres superposés et ôtés ou rem
 is rapidement (notamment pour les parties ascendantes)\, idéalement 3 cou
 ches de vêtements\, gants\, bonnets\, lunettes de Soleil\, masque de ski 
 mauvais temps\, crème solaire\, un sac de 40L environ (qu'il faudra porte
 r en skiant\, donc ne pas prendre trop gros)\, drap de soie pour les nuits
  au refuge.\n\nUne liste détaillée sera remise à chaque participant ava
 nt la sortie\n\nTarif et participation:\nComprenant (Transport +Hébergeme
 nt  et nourriture en refuge + Encadrement +  Matériel de ski et de séc
 urité)\n\nAdhérents adultes Suresnes Escalade :\n- 400 € tout compris\
 n- 350 € tout compris sans le matériel de ski et sécurité\n\nNon adh
 érents adultes Suresnes Escalade :\n- 450 € tout compris\n- 400 € tou
 t compris sans le matériel de ski et sécurité\n\n7 Places sont disponib
 les pour cette sortie\n\nLes adhérents à Suresnes Escalade seront priori
 taires jusqu’au 31 janvier. A partir de cette date\, les inscriptions ex
 térieures à Suresnes Escalade pourront être validées (dans la mesure d
 es stocks disponibles - et sous réserve d'être en possession d'une licen
 ce adaptée\, FFME\, FFGT\, CAF\, ...). Les inscriptions se font en ligne 
 uniquement. Pour toute question ou renseignement un mail à sortie@suresne
 s-escalade.fr\, ou directement à Eric Choplin (06 79 36 84 24) : choplin.
 eric@hotmail.fr au pied des voies et le tour est joué.\n\nRéunion prépa
 ratoire obligatoire pour les participants (notamment pour les informations
  sur le programme et le matériel à emmener) le mardi 15 février à 20 h
  au Gymnase.\n\nClôture des inscriptions : Dimanche 6 Février à 20h\n\n
 NB : Votre inscription sera validée dès réception de votre règlement 
 à Suresnes Escalade dans la boite à lettres située à l’entrée du gy
 mnase.\n\nRéservation : En m'inscrivant sur ce site\, "j'accepte que mes
  données personnelles soient collectées et conservées dans les conditi
 ons définies sur le lien Politique de confidentialité du site."
CATEGORIES:Sortie Site Naturel
LOCATION:Briançon\, massif\, Briançon\, France
X-APPLE-STRUCTURED-LOCATION;VALUE=URI;X-ADDRESS=massif\, Briançon\, France
 ;X-APPLE-RADIUS=100;X-TITLE=Briançon:geo:0,0
END:VEVENT
BEGIN:VTIMEZONE
TZID:Europe/Paris
X-LIC-LOCATION:Europe/Paris
BEGIN:STANDARD
DTSTART:20211031T020000
TZOFFSETFROM:+0200
TZOFFSETTO:+0100
TZNAME:CET
END:STANDARD
END:VTIMEZONE
END:VCALENDAR