BEGIN:VCALENDAR
VERSION:2.0
PRODID:-//wp-events-plugin.com//7.2.3.1//EN
TZID:Europe/Paris
X-WR-TIMEZONE:Europe/Paris
BEGIN:VEVENT
UID:75@suresnes-escalade.fr
DTSTART;TZID=Europe/Paris;VALUE=DATE:20200411
DTEND;TZID=Europe/Paris;VALUE=DATE:20200419
DTSTAMP:20191220T083553Z
URL:https://suresnes-escalade.fr/sorties/stage-2020-pour-tous-a-orpierre/
SUMMARY:Stage 2020 pour tous à Orpierre
DESCRIPTION:Chers grimpeurs\,\n\nComme depuis plusieurs années\, Suresnes 
 Escalade vous propose\, à l’occasion des vacances de printemps\, un s
 tage escalade d’une semaine à l’attention de tous : que vous soyez g
 rimpeur ou que vous souhaitiez accompagner un grimpeur.\n\nCette année\, 
 nous vous proposons de retourner à Orpierre. Situé dans les Alpes de Hau
 te Provence\, au cœur du Parc Naturel Régional des Baronnies. Orpierre e
 st un petit village au pied des falaises.\n\nPour l’escalade : ni plus\
 , ni moins que 600 voies en couenne et en grandes voies. De nombreux secte
 urs sont accessibles à pieds du village.\n\n\n\nDATES : du samedi 11 au
  samedi 18 avril.\n\nHEBERGEMENT : en chalets au camping Les Princes d'
 Orange**** avec accès à la piscine et à la salle d’escalade (Oui\, v
 ous avez bien lu : il y a une salle au sein du camping ! La classe non 
 ?).\n\nREPAS : les dîners se prendront au restaurant du camping avec l
 ’ensemble du groupe alors que les petits déjeuners et les déjeuners/p
 ique-niques se prépareront aux chalets pour avoir une plus grande autono
 mie.\n\nDans la journée\, les grimpeurs\, encadrés par Olivier notre BE\
 , entraîneur de notre équipe compétition\, iront gravir les falaises au
 x alentours du village et les non-grimpeurs auront à leur disposition de 
 nombreuses activités sportives ou non.\n\nVous êtes adhérent à Suresne
 s escalade : si vous êtes adulte\, vous pouvez venir seul ou avec conjoi
 nt et enfants si vous le souhaitez et si c’est votre enfant qui est grim
 peur à Suresnes Escalade\, vous pouvez l’accompagner en famille.\n\nQua
 nt aux jeunes adhérents (10 ans et plus)\, ils peuvent également venir s
 euls\, ils seront pris en charge.\nAttention : Le nombre de jeunes adhér
 ents non accompagnés est limité aux 6 premiers inscrits ayants déposés
  un dossier complet.\n\nTRANSPORT: Nous nous occupons du transport des je
 unes qui viennent seuls en mini bus ou dans l’une des voitures des parti
 cipants et demanderons aux adultes de se rendre sur place en voiture\, ce 
 qui permettra à chacun d’être totalement indépendants.\n\nTARIF : I
 l comprend le logement\, les repas et l’encadrement escalade. Ils ne co
 mprennent pas le transport aller/retour\, les bières et alcool\, les visi
 tes de sites et autres activités.\n\nPour les participants non motorisés
 \, nous organiserons un co-voiturage entre vous (charge à vous de vous ar
 ranger pour les frais de route). Prévoir un surcoût de 50€ pour les je
 unes non accompagnés qui seront pris en charge par le club.\n\n 	Pour les
  grimpeurs adhérents de Suresnes Escalade : 300€ (+ 50€ pour les jeu
 nes non accompagnés)\n 	Pour les grimpeurs non-adhérents à Suresnes Esc
 alade : 370€\n 	Et pour les non-grimpeurs : 200€\n\nSi vous souhaitez
  venir quelques jours\, merci de nous contacter au préalable.\n\nLes adh
 érents à Suresnes Escalade et leurs familles seront prioritaires jusqu
 ’au 1er  février. A partir de cette date\, les inscriptions extérieur
 es au club pourront être validées ainsi que les séjours de moins d’un
 e semaine.\n\nEt si vous vous posez des questions\, n’hésitez pas à ap
 peler Alain au 06 33 78 03 11\n\nNous vous attendons nombreux pour cette b
 elle destination !\n\n&nbsp\;\n\nNB1 : Votre inscription sera validée ap
 rès réception de votre règlement par Suresnes Escalade\n\nNB2 : Licence
  FFME obligatoire pour tous les grimpeurs
ATTACH;FMTTYPE=image/jpeg:https://suresnes-escalade.fr/wp-content/uploads/
 2019/01/orpierre.jpg
CATEGORIES:Sortie Site Naturel
LOCATION:Camping\, Buis les Baronnies\, 26170\, France
X-APPLE-STRUCTURED-LOCATION;VALUE=URI;X-ADDRESS=Buis les Baronnies\, 26170\
 , France;X-APPLE-RADIUS=100;X-TITLE=Camping:geo:0,0
END:VEVENT
BEGIN:VTIMEZONE
TZID:Europe/Paris
X-LIC-LOCATION:Europe/Paris
BEGIN:DAYLIGHT
DTSTART:20200329T030000
TZOFFSETFROM:+0100
TZOFFSETTO:+0200
TZNAME:CEST
END:DAYLIGHT
END:VTIMEZONE
END:VCALENDAR