BEGIN:VCALENDAR
VERSION:2.0
PRODID:-//wp-events-plugin.com//7.2.3.1//EN
TZID:Europe/Paris
X-WR-TIMEZONE:Europe/Paris
BEGIN:VEVENT
UID:121@suresnes-escalade.fr
DTSTART;TZID=Europe/Paris;VALUE=DATE:20220626
DTEND;TZID=Europe/Paris;VALUE=DATE:20220704
DTSTAMP:20220516T112912Z
URL:https://suresnes-escalade.fr/sorties/stage-adultes-enfants-en-ardeche/
SUMMARY:Stage adultes/enfants en Ardèche
DESCRIPTION:Suresnes Escalade vous propose un stage multi-activités (escal
 ade\, via corda\, kayak\, canonying ...) en Ardèche\, pour adultes et jeu
 nes\, du dimanche 26 juin au dimanche 3 juillet 2022\, encadré par Franck
  Ansquer.\n\nLes sites d'escalade sont situés sur les falaises à l’apl
 omb de la rivière du Chassezac\, juste en face du camping. La région est
  splendide et offre la possibilité de pratiquer de nombreuses activités 
 sportives et culturelles : canoé-kayak\, randonnée\, visites\, grottes e
 t gorges.....\n\nLogement :\nNous vous proposons de loger à Casteljau\, 
 à quelques kilomètres de Vallon Pont d’Arc au camping les Blaches dan
 s des chalets entièrement équipés. \n\nTarifs : 490 euros par personne\
 , comprenant l'encadrement\, les activités\, les repas et le logement. Le
 s extras (activités non prévues\, boissons alcoolisées..) et le transpo
 rt ne sont pas inclus dans le tarif.\n\nLes inscriptions sont limitées à
  12 personnes. Si le nombre de participants est inférieur à 8 (au 31/05)
 \, le stage ne pourra pas être organisé.\n\n\nVous êtes adhérent à Su
 resnes Escalade ou licencié FFME d'un autre club: vous pouvez venir seul 
 (ou avec conjoint et enfants si vous le souhaitez). Vous êtes parent d'un
  jeune grimpeur licencié\, vous pouvez l’accompagner en famille.\n\nQua
 nt aux jeunes grimpeurs du club\, ils peuvent également venir seuls (à p
 artir de 12 ans).\n\nAttention : Le nombre de jeunes adhérents non accomp
 agnés est limité aux 5 premiers inscrits ayant déposé un dossier compl
 et.\n\nN'hésitez pas !
CATEGORIES:Sortie Site Naturel
LOCATION:Camping les Blaches\, Terres du Moulin\, Berrias-et-Casteljau\, Fr
 ance
X-APPLE-STRUCTURED-LOCATION;VALUE=URI;X-ADDRESS=Terres du Moulin\, Berrias-
 et-Casteljau\, France;X-APPLE-RADIUS=100;X-TITLE=Camping les Blaches:geo:0
 ,0
END:VEVENT
BEGIN:VTIMEZONE
TZID:Europe/Paris
X-LIC-LOCATION:Europe/Paris
BEGIN:DAYLIGHT
DTSTART:20220327T030000
TZOFFSETFROM:+0100
TZOFFSETTO:+0200
TZNAME:CEST
END:DAYLIGHT
END:VTIMEZONE
END:VCALENDAR